BEGIN:VCALENDAR
VERSION:2.0
PRODID:-//Albuquerque Aerostat Ascension Association (AAAA) - ECPv6.15.17//NONSGML v1.0//EN
CALSCALE:GREGORIAN
METHOD:PUBLISH
X-WR-CALNAME:Albuquerque Aerostat Ascension Association (AAAA)
X-ORIGINAL-URL:https://www.hotairballooning.org
X-WR-CALDESC:Events for Albuquerque Aerostat Ascension Association (AAAA)
REFRESH-INTERVAL;VALUE=DURATION:PT1H
X-Robots-Tag:noindex
X-PUBLISHED-TTL:PT1H
BEGIN:VTIMEZONE
TZID:America/Denver
BEGIN:DAYLIGHT
TZOFFSETFROM:-0700
TZOFFSETTO:-0600
TZNAME:MDT
DTSTART:20240310T090000
END:DAYLIGHT
BEGIN:STANDARD
TZOFFSETFROM:-0600
TZOFFSETTO:-0700
TZNAME:MST
DTSTART:20241103T080000
END:STANDARD
BEGIN:DAYLIGHT
TZOFFSETFROM:-0700
TZOFFSETTO:-0600
TZNAME:MDT
DTSTART:20250309T090000
END:DAYLIGHT
BEGIN:STANDARD
TZOFFSETFROM:-0600
TZOFFSETTO:-0700
TZNAME:MST
DTSTART:20251102T080000
END:STANDARD
BEGIN:DAYLIGHT
TZOFFSETFROM:-0700
TZOFFSETTO:-0600
TZNAME:MDT
DTSTART:20260308T090000
END:DAYLIGHT
BEGIN:STANDARD
TZOFFSETFROM:-0600
TZOFFSETTO:-0700
TZNAME:MST
DTSTART:20261101T080000
END:STANDARD
BEGIN:DAYLIGHT
TZOFFSETFROM:-0700
TZOFFSETTO:-0600
TZNAME:MDT
DTSTART:20270314T090000
END:DAYLIGHT
BEGIN:STANDARD
TZOFFSETFROM:-0600
TZOFFSETTO:-0700
TZNAME:MST
DTSTART:20271107T080000
END:STANDARD
END:VTIMEZONE
BEGIN:VEVENT
DTSTART;VALUE=DATE:20250419
DTEND;VALUE=DATE:20250420
DTSTAMP:20260425T105905
CREATED:20250129T143424Z
LAST-MODIFIED:20250606T013628Z
UID:24695-1745020800-1745107199@www.hotairballooning.org
SUMMARY:Top Gun Monthly Flying Event
DESCRIPTION:
URL:https://www.hotairballooning.org/event/top-gun-monthly-flying-event-april/
CATEGORIES:Regional Event
ATTACH;FMTTYPE=image/jpeg:https://www.hotairballooning.org/wp-content/uploads/2025/01/TOP-GUN-FLYING-EVENT.jpg
END:VEVENT
BEGIN:VEVENT
DTSTART;VALUE=DATE:20250523
DTEND;VALUE=DATE:20250527
DTSTAMP:20260425T105905
CREATED:20250129T144504Z
LAST-MODIFIED:20250129T145724Z
UID:24702-1747958400-1748303999@www.hotairballooning.org
SUMMARY:Rio Grande Classic
DESCRIPTION:
URL:https://www.hotairballooning.org/event/rio-grande-classic/
CATEGORIES:Regional Event
ATTACH;FMTTYPE=image/jpeg:https://www.hotairballooning.org/wp-content/uploads/2025/01/TOP-GUN-RIO-GRANDE-CLASSIC-EVENT.jpg
END:VEVENT
BEGIN:VEVENT
DTSTART;VALUE=DATE:20250613
DTEND;VALUE=DATE:20250616
DTSTAMP:20260425T105905
CREATED:20250430T005506Z
LAST-MODIFIED:20250430T010502Z
UID:25316-1749772800-1750031999@www.hotairballooning.org
SUMMARY:Balloons Over Angel Fire 2025
DESCRIPTION:Watch a field of hot-air balloons at sunrise as they gracefully float up into the cool morning air of the Moreno Valley. Balloons Over Angel Fire is one of the few high-mountain hot-air balloon events in the country. Learn how the balloons work\, talk to the pilots\, take lots of pictures and spend Father’s Day weekend enjoying the laid-back pace of Angel Fire\, NM.\n\nSchedule of Events\nFriday\nGates Open 6:00am\n6:30am-9:00am Mass Ascension – Angel Fire Airport\n9:00am-5:00pm Vietnam Veterans Memorial Open\n5:00pm-7:00pm Cool Summer Nights\nFree Concert at Liberty Square Park\n\nSaturday\nGates Open 6:00am\n6:30am-9:00am Mass Ascension – Angel Fire Airport\n9:00am-4:00pm Mimosas on Mainstreet\n\nSunday\nGates Open 6:00am\n6:30am-9:00am Mass Ascension – Angel Fire Airport\n10:00am-4:00pm Angel Fire Farmer’s Market – Frontier Park\n\nWhat You Should Know Before You Go\nAngel Fire Weather\nThe average temperatures in Angel Fire in June range from 60-70 degrees during the day. Nights and early mornings may get down into the 40s but make for great summer grilling and bonfire weather.\n\nHow To Dress For The Weather\nThe best way to dress in the mountains is in layers. Start with a light sweatshirt or sweater over a t-shirt or tank top. Sunglasses\, a hat and a raincoat or umbrella will have you prepared for varying weather. All events are outdoors and apparel is casual.\n\nWhat To Bring To Tailgate At The Angel Fire Airport\nThe ascension events at the Angel Fire Airport are a bring-your-own-seating and food\, type of festivity. Lawn chairs\, blankets\, strollers and wagons are all acceptable. You are encouraged to tailgate open up that cooler and get fueled up for summer mountain fun.\n\nPrices & Promotions\nBalloon sightings\, live music\, the street fair and the farmers market are all FREE to attend. There will be food and beverages available for purchase\, along with local art and produce.
URL:https://www.hotairballooning.org/event/balloons-over-angel-fire-2025/
CATEGORIES:Regional Event
ATTACH;FMTTYPE=image/jpeg:https://www.hotairballooning.org/wp-content/uploads/2025/04/489821660_1113012467523515_5599654322132286696_n.jpg
END:VEVENT
BEGIN:VEVENT
DTSTART;VALUE=DATE:20250613
DTEND;VALUE=DATE:20250616
DTSTAMP:20260425T105905
CREATED:20250502T154353Z
LAST-MODIFIED:20250502T154353Z
UID:25324-1749772800-1750031999@www.hotairballooning.org
SUMMARY:San Juan River Balloon Rally
DESCRIPTION:Mass Ascension — Friday\, Saturday\, Sunday at 6:30 am \nBalloon Glow — Saturday evening at 5:30 pm \nLots of Entertainment & Vendors! \nContact the Bloomfield Chamber of Commerce with questions. (505) 632-0880
URL:https://www.hotairballooning.org/event/san-juan-river-balloon-rally/
LOCATION:Bloomfield\, NM\, Bloomfield\, NM\, United States
CATEGORIES:Regional Event
ATTACH;FMTTYPE=image/jpeg:https://www.hotairballooning.org/wp-content/uploads/2025/05/Bloomfield-San-Juan-River-Valley.jpg
END:VEVENT
BEGIN:VEVENT
DTSTART;VALUE=DATE:20250621
DTEND;VALUE=DATE:20250622
DTSTAMP:20260425T105905
CREATED:20250129T150007Z
LAST-MODIFIED:20250606T013623Z
UID:24693-1750464000-1750550399@www.hotairballooning.org
SUMMARY:Top Gun Monthly Flying Event
DESCRIPTION:
URL:https://www.hotairballooning.org/event/top-gun-monthly-flying-event-june/
CATEGORIES:Regional Event
ATTACH;FMTTYPE=image/jpeg:https://www.hotairballooning.org/wp-content/uploads/2025/01/TOP-GUN-FLYING-EVENT.jpg
END:VEVENT
BEGIN:VEVENT
DTSTART;VALUE=DATE:20250704
DTEND;VALUE=DATE:20250707
DTSTAMP:20260425T105905
CREATED:20250514T221616Z
LAST-MODIFIED:20250514T221702Z
UID:25397-1751587200-1751846399@www.hotairballooning.org
SUMMARY:Int'l Santa Fe Trail Balloon Rally — Raton\, NM
DESCRIPTION:Hot air balloons will fly at 6:30am (weather permitting). \nIf you are a pilot interested in participating\, please print and complete both a Pilot Application and Pilot Agreement. \nInterested in being a Sponsor\, Download the Sponsor Form!
URL:https://www.hotairballooning.org/event/intl-santa-fe-trail-balloon-rally-raton-nm/
LOCATION:Raton\, NM\, Raton\, NM\, United States
CATEGORIES:Regional Event
ATTACH;FMTTYPE=image/jpeg:https://www.hotairballooning.org/wp-content/uploads/2025/05/496304272_10070021386390372_653046977992950456_n.jpg
END:VEVENT
BEGIN:VEVENT
DTSTART;VALUE=DATE:20250719
DTEND;VALUE=DATE:20250720
DTSTAMP:20260425T105905
CREATED:20250129T150404Z
LAST-MODIFIED:20250606T013618Z
UID:24692-1752883200-1752969599@www.hotairballooning.org
SUMMARY:Top Gun Monthly Flying Event
DESCRIPTION:
URL:https://www.hotairballooning.org/event/top-gun-monthly-flying-event-july/
CATEGORIES:Regional Event
ATTACH;FMTTYPE=image/jpeg:https://www.hotairballooning.org/wp-content/uploads/2025/01/TOP-GUN-FLYING-EVENT.jpg
END:VEVENT
BEGIN:VEVENT
DTSTART;VALUE=DATE:20250816
DTEND;VALUE=DATE:20250817
DTSTAMP:20260425T105905
CREATED:20250129T150956Z
LAST-MODIFIED:20250606T013605Z
UID:24708-1755302400-1755388799@www.hotairballooning.org
SUMMARY:Top Gun Monthly Flying Event - Day 1
DESCRIPTION:
URL:https://www.hotairballooning.org/event/top-gun-monthly-flying-event-august-day-1/
CATEGORIES:Regional Event
ATTACH;FMTTYPE=image/jpeg:https://www.hotairballooning.org/wp-content/uploads/2025/01/TOP-GUN-FLYING-EVENT.jpg
END:VEVENT
BEGIN:VEVENT
DTSTART;VALUE=DATE:20250816
DTEND;VALUE=DATE:20250817
DTSTAMP:20260425T105905
CREATED:20250129T151048Z
LAST-MODIFIED:20250606T013558Z
UID:24710-1755302400-1755388799@www.hotairballooning.org
SUMMARY:Top Gun Monthly Flying Event - Day 2
DESCRIPTION:
URL:https://www.hotairballooning.org/event/top-gun-monthly-flying-event-day-2-2/
CATEGORIES:Regional Event
ATTACH;FMTTYPE=image/jpeg:https://www.hotairballooning.org/wp-content/uploads/2025/01/TOP-GUN-FLYING-EVENT.jpg
END:VEVENT
BEGIN:VEVENT
DTSTART;VALUE=DATE:20250821
DTEND;VALUE=DATE:20250825
DTSTAMP:20260425T105905
CREATED:20250509T202144Z
LAST-MODIFIED:20250509T202144Z
UID:25376-1755734400-1756079999@www.hotairballooning.org
SUMMARY:Great American Duck Race / Balloon Rally - Deming\, NM
DESCRIPTION:Balloon Pilots needed!\nReach out to event organizers at (575) 567-3905.
URL:https://www.hotairballooning.org/event/great-american-duck-race-balloon-rally-deming-nm/
LOCATION:Deming\, NM\, Deming\, NM\, United States
CATEGORIES:Regional Event
ATTACH;FMTTYPE=image/jpeg:https://www.hotairballooning.org/wp-content/uploads/2025/05/deming-duck-rally.jpg
END:VEVENT
BEGIN:VEVENT
DTSTART;VALUE=DATE:20250822
DTEND;VALUE=DATE:20250825
DTSTAMP:20260425T105905
CREATED:20250214T003126Z
LAST-MODIFIED:20250804T213234Z
UID:24891-1755820800-1756079999@www.hotairballooning.org
SUMMARY:[CANCELED] — Elephant Butte Balloon Regatta
DESCRIPTION:Unfortunately\, this year’s event had to be canceled due to extremely low water levels in the lake. We’ll see you next year!
URL:https://www.hotairballooning.org/event/elephant-butte-balloon-regatta/
LOCATION:Elephant Butte Lake State Park\, Elephant Butte\, NM
CATEGORIES:Regional Event
ATTACH;FMTTYPE=image/jpeg:https://www.hotairballooning.org/wp-content/uploads/2025/02/elephant-butte.jpg
END:VEVENT
BEGIN:VEVENT
DTSTART;VALUE=DATE:20250920
DTEND;VALUE=DATE:20250922
DTSTAMP:20260425T105905
CREATED:20250129T151419Z
LAST-MODIFIED:20250830T161323Z
UID:24712-1758326400-1758499199@www.hotairballooning.org
SUMMARY:Top Gun Monthly Flying Event
DESCRIPTION:
URL:https://www.hotairballooning.org/event/top-gun-monthly-flying-event-september/
CATEGORIES:Regional Event
ATTACH;FMTTYPE=image/jpeg:https://www.hotairballooning.org/wp-content/uploads/2025/01/TOP-GUN-FLYING-EVENT.jpg
END:VEVENT
BEGIN:VEVENT
DTSTART;VALUE=DATE:20251003
DTEND;VALUE=DATE:20251004
DTSTAMP:20260425T105905
CREATED:20250129T160020Z
LAST-MODIFIED:20250129T160020Z
UID:24725-1759449600-1759535999@www.hotairballooning.org
SUMMARY:Albuquerque Aloft
DESCRIPTION:
URL:https://www.hotairballooning.org/event/albuquerque-aloft/
CATEGORIES:Regional Event
ATTACH;FMTTYPE=image/jpeg:https://www.hotairballooning.org/wp-content/uploads/2025/01/ALBUQUERQUE-ALOFT.jpg
END:VEVENT
BEGIN:VEVENT
DTSTART;VALUE=DATE:20251004
DTEND;VALUE=DATE:20251013
DTSTAMP:20260425T105905
CREATED:20250105T170327Z
LAST-MODIFIED:20250830T155244Z
UID:2021-1759536000-1760313599@www.hotairballooning.org
SUMMARY:Albuquerque Int'l Balloon Fiesta 2025
DESCRIPTION:
URL:https://www.hotairballooning.org/event/albuquerque-intl-balloon-fiesta-2025/
LOCATION:Balloon Fiesta Park\, Albuquerque\, NM\, 87121\, United States
CATEGORIES:Regional Event
ATTACH;FMTTYPE=image/jpeg:https://www.hotairballooning.org/wp-content/uploads/2025/01/BALLOON-FIESTA.jpg
END:VEVENT
BEGIN:VEVENT
DTSTART;VALUE=DATE:20251115
DTEND;VALUE=DATE:20251116
DTSTAMP:20260425T105905
CREATED:20250129T152816Z
LAST-MODIFIED:20250606T013404Z
UID:24718-1763164800-1763251199@www.hotairballooning.org
SUMMARY:Top Gun Monthly Flying Event - Day 1
DESCRIPTION:
URL:https://www.hotairballooning.org/event/top-gun-monthly-flying-event-november-day-1/
CATEGORIES:Regional Event
ATTACH;FMTTYPE=image/jpeg:https://www.hotairballooning.org/wp-content/uploads/2025/01/TOP-GUN-FLYING-EVENT.jpg
END:VEVENT
BEGIN:VEVENT
DTSTART;VALUE=DATE:20251116
DTEND;VALUE=DATE:20251117
DTSTAMP:20260425T105905
CREATED:20250129T152936Z
LAST-MODIFIED:20250606T013357Z
UID:24720-1763251200-1763337599@www.hotairballooning.org
SUMMARY:Top Gun Monthly Flying Event - Day 2
DESCRIPTION:
URL:https://www.hotairballooning.org/event/top-gun-monthly-flying-event-november-day-2/
CATEGORIES:Regional Event
ATTACH;FMTTYPE=image/jpeg:https://www.hotairballooning.org/wp-content/uploads/2025/01/TOP-GUN-FLYING-EVENT.jpg
END:VEVENT
BEGIN:VEVENT
DTSTART;VALUE=DATE:20251205
DTEND;VALUE=DATE:20251208
DTSTAMP:20260425T105905
CREATED:20250130T142110Z
LAST-MODIFIED:20250130T152637Z
UID:24733-1764892800-1765151999@www.hotairballooning.org
SUMMARY:Red Rock Balloon Rally — Gallup
DESCRIPTION:Friday\, December 5\, 2025 \n\nMass Ascension from Fox Run Golf Course in Gallup & from Red Rock Park 7:30 am\nGlow in The Rocks and Indian Dances at Red Rock Park 6:30 pm\n\nSaturday\, December 6\, 2025 \n\nDawn Patrol 6:30 am\nMass Ascension at Red Rock Park 7:30 am\nPyramid Rock Run Registration at Red Rock Park 8:00 am\nPyramid Rock Run at Red Rock Park 8:30 am\nGallup Downtown Christmas Parade 1:00pm\nBalloominaria at Rio West Mall 6:30 pm\n\nSunday\, December 7\, 2025 \n\nDawn Patrol 6:30am\nMass Ascension at Red Rock Park 7:30am\nAwards Brunch and Auction at Red Rock Park 10:00am
URL:https://www.hotairballooning.org/event/red-rock-balloon-rally-gallup/
CATEGORIES:Regional Event
ATTACH;FMTTYPE=image/jpeg:https://www.hotairballooning.org/wp-content/uploads/2025/01/GALLUP-RALLY.jpg
END:VEVENT
BEGIN:VEVENT
DTSTART;VALUE=DATE:20251220
DTEND;VALUE=DATE:20251221
DTSTAMP:20260425T105905
CREATED:20250129T153246Z
LAST-MODIFIED:20250606T013156Z
UID:24722-1766188800-1766275199@www.hotairballooning.org
SUMMARY:Top Gun Monthly Flying Event
DESCRIPTION:
URL:https://www.hotairballooning.org/event/top-gun-monthly-flying-event-december/
CATEGORIES:Regional Event
ATTACH;FMTTYPE=image/jpeg:https://www.hotairballooning.org/wp-content/uploads/2025/01/TOP-GUN-FLYING-EVENT.jpg
END:VEVENT
BEGIN:VEVENT
DTSTART;VALUE=DATE:20260228
DTEND;VALUE=DATE:20260301
DTSTAMP:20260425T105905
CREATED:20260109T154804Z
LAST-MODIFIED:20260113T023827Z
UID:26370-1772236800-1772323199@www.hotairballooning.org
SUMMARY:Annual AERCO Balloon Safety Seminar
DESCRIPTION:Details below… We’ll see you at the seminar!\nRegister today at: https://www.ticketleap.events/tickets/albuquerque-balloon-center-inc/2026-balloon-safety-seminar
URL:https://www.hotairballooning.org/event/annual-aerco-balloon-safety-seminar/
LOCATION:Sid Cutter Pavilion\, 4900 Balloon Fiesta Pkwy NE\, Albuquerque\, NM\, 87113\, United States
CATEGORIES:Regional Event
ATTACH;FMTTYPE=image/jpeg:https://www.hotairballooning.org/wp-content/uploads/2025/01/AERCO-Safety-Seminar.jpg
END:VEVENT
END:VCALENDAR