BEGIN:VCALENDAR
VERSION:2.0
PRODID:-//Albuquerque Aerostat Ascension Association (AAAA) - ECPv6.15.17//NONSGML v1.0//EN
CALSCALE:GREGORIAN
METHOD:PUBLISH
X-ORIGINAL-URL:https://www.hotairballooning.org
X-WR-CALDESC:Events for Albuquerque Aerostat Ascension Association (AAAA)
REFRESH-INTERVAL;VALUE=DURATION:PT1H
X-Robots-Tag:noindex
X-PUBLISHED-TTL:PT1H
BEGIN:VTIMEZONE
TZID:America/Denver
BEGIN:DAYLIGHT
TZOFFSETFROM:-0700
TZOFFSETTO:-0600
TZNAME:MDT
DTSTART:20250309T090000
END:DAYLIGHT
BEGIN:STANDARD
TZOFFSETFROM:-0600
TZOFFSETTO:-0700
TZNAME:MST
DTSTART:20251102T080000
END:STANDARD
BEGIN:DAYLIGHT
TZOFFSETFROM:-0700
TZOFFSETTO:-0600
TZNAME:MDT
DTSTART:20260308T090000
END:DAYLIGHT
BEGIN:STANDARD
TZOFFSETFROM:-0600
TZOFFSETTO:-0700
TZNAME:MST
DTSTART:20261101T080000
END:STANDARD
BEGIN:DAYLIGHT
TZOFFSETFROM:-0700
TZOFFSETTO:-0600
TZNAME:MDT
DTSTART:20270314T090000
END:DAYLIGHT
BEGIN:STANDARD
TZOFFSETFROM:-0600
TZOFFSETTO:-0700
TZNAME:MST
DTSTART:20271107T080000
END:STANDARD
END:VTIMEZONE
BEGIN:VEVENT
DTSTART;TZID=America/Denver:20260526T183000
DTEND;TZID=America/Denver:20260526T193000
DTSTAMP:20260421T080941
CREATED:20260308T020852Z
LAST-MODIFIED:20260308T020852Z
UID:26501-1779820200-1779823800@www.hotairballooning.org
SUMMARY:General Membership Meeting - May 2026
DESCRIPTION:Come early to socialize with friends! \nVideo link will be sent out via email to members a couple of days prior to the meeting.
URL:https://www.hotairballooning.org/event/general-membership-meeting-may-2026/
LOCATION:Anderson Abruzzo Int’l Balloon Museum\, 9201 Balloon Museum Dr NE\, NM\, 87113\, United States
CATEGORIES:General Meeting
ATTACH;FMTTYPE=image/jpeg:https://www.hotairballooning.org/wp-content/uploads/2025/01/General-Meeting-IMAGE.jpg
ORGANIZER;CN="AAAA Board of Directors":MAILTO:board@hotairballooning.org
END:VEVENT
BEGIN:VEVENT
DTSTART;VALUE=DATE:20260614
DTEND;VALUE=DATE:20260615
DTSTAMP:20260421T080941
CREATED:20260308T023353Z
LAST-MODIFIED:20260308T023353Z
UID:26543-1781395200-1781481599@www.hotairballooning.org
SUMMARY:AAAA Flying Event - Rio Rancho - June 2026
DESCRIPTION:LOCATION: Rio Rancho – Westside & 10th Street\, across from Joe Harris Elementary School \nREGISTRATION: 5:00 am \nBRIEFING: 5:25 am \nPlease click on this link to PRE-REGISTER no later than 5 pm on June 13th. \nClick here for the Crew Certificate of Understanding (COU).
URL:https://www.hotairballooning.org/event/aaaa-flying-event-rio-rancho-june-2026/
LOCATION:NM
CATEGORIES:Monthly Flying Event
ATTACH;FMTTYPE=image/jpeg:https://www.hotairballooning.org/wp-content/uploads/2025/01/Flying-Event-RIO-RANCHO.jpg
END:VEVENT
BEGIN:VEVENT
DTSTART;TZID=America/Denver:20260623T183000
DTEND;TZID=America/Denver:20260623T193000
DTSTAMP:20260421T080941
CREATED:20260308T020952Z
LAST-MODIFIED:20260308T020952Z
UID:26502-1782239400-1782243000@www.hotairballooning.org
SUMMARY:General Membership Meeting - June 2026
DESCRIPTION:Come early to socialize with friends! \nVideo link will be sent out via email to members a couple of days prior to the meeting.
URL:https://www.hotairballooning.org/event/general-membership-meeting-june-2026/
LOCATION:Anderson Abruzzo Int’l Balloon Museum\, 9201 Balloon Museum Dr NE\, NM\, 87113\, United States
CATEGORIES:General Meeting
ATTACH;FMTTYPE=image/jpeg:https://www.hotairballooning.org/wp-content/uploads/2025/01/General-Meeting-IMAGE.jpg
ORGANIZER;CN="AAAA Board of Directors":MAILTO:board@hotairballooning.org
END:VEVENT
BEGIN:VEVENT
DTSTART;VALUE=DATE:20260711
DTEND;VALUE=DATE:20260712
DTSTAMP:20260421T080941
CREATED:20260308T022609Z
LAST-MODIFIED:20260308T022609Z
UID:26538-1783728000-1783814399@www.hotairballooning.org
SUMMARY:AAAA Flying Event - Balloon Fiesta Park - July 2026
DESCRIPTION:LOCATION: Balloon Fiesta Park \n0500 – Registration Begins \n0530 – Pilot Briefing \nLOCATION – NE Corner of the Fiesta Field\, enter off Balloon Fiesta Parkway \nPlease click on this link to PRE-REGISTER no later than 5 pm on July 10th. \nClick here for the Crew Certificate of Understanding (COU).
URL:https://www.hotairballooning.org/event/aaaa-flying-event-balloon-fiesta-park-july-2026/
LOCATION:Balloon Fiesta Park\, Albuquerque\, NM\, 87121\, United States
CATEGORIES:Monthly Flying Event
ATTACH;FMTTYPE=image/jpeg:https://www.hotairballooning.org/wp-content/uploads/2025/01/Flying-Event-ALBUQUERQUE.jpg
END:VEVENT
BEGIN:VEVENT
DTSTART;TZID=America/Denver:20260728T183000
DTEND;TZID=America/Denver:20260728T193000
DTSTAMP:20260421T080941
CREATED:20260308T021104Z
LAST-MODIFIED:20260308T021323Z
UID:26503-1785263400-1785267000@www.hotairballooning.org
SUMMARY:General Membership Meeting - July 2026
DESCRIPTION:Come early to socialize with friends! \nVideo link will be sent out via email to members a couple of days prior to the meeting.
URL:https://www.hotairballooning.org/event/general-membership-meeting-july-2026/
LOCATION:Anderson Abruzzo Int’l Balloon Museum\, 9201 Balloon Museum Dr NE\, NM\, 87113\, United States
CATEGORIES:General Meeting
ATTACH;FMTTYPE=image/jpeg:https://www.hotairballooning.org/wp-content/uploads/2025/01/General-Meeting-IMAGE.jpg
ORGANIZER;CN="AAAA Board of Directors":MAILTO:board@hotairballooning.org
END:VEVENT
BEGIN:VEVENT
DTSTART;TZID=America/Denver:20260825T183000
DTEND;TZID=America/Denver:20260825T193000
DTSTAMP:20260421T080941
CREATED:20260308T021426Z
LAST-MODIFIED:20260308T021426Z
UID:26514-1787682600-1787686200@www.hotairballooning.org
SUMMARY:General Membership Meeting - August 2026
DESCRIPTION:Come early to socialize with friends! \nVideo link will be sent out via email to members a couple of days prior to the meeting.
URL:https://www.hotairballooning.org/event/general-membership-meeting-august-2026/
LOCATION:Anderson Abruzzo Int’l Balloon Museum\, 9201 Balloon Museum Dr NE\, NM\, 87113\, United States
CATEGORIES:General Meeting
ATTACH;FMTTYPE=image/jpeg:https://www.hotairballooning.org/wp-content/uploads/2025/01/General-Meeting-IMAGE.jpg
ORGANIZER;CN="AAAA Board of Directors":MAILTO:board@hotairballooning.org
END:VEVENT
BEGIN:VEVENT
DTSTART;TZID=America/Denver:20260922T183000
DTEND;TZID=America/Denver:20260922T193000
DTSTAMP:20260421T080941
CREATED:20260308T021524Z
LAST-MODIFIED:20260308T021524Z
UID:26517-1790101800-1790105400@www.hotairballooning.org
SUMMARY:General Membership Meeting - September 2026
DESCRIPTION:Come early to socialize with friends! \nVideo link will be sent out via email to members a couple of days prior to the meeting.
URL:https://www.hotairballooning.org/event/general-membership-meeting-september-2026/
LOCATION:Anderson Abruzzo Int’l Balloon Museum\, 9201 Balloon Museum Dr NE\, NM\, 87113\, United States
CATEGORIES:General Meeting
ATTACH;FMTTYPE=image/jpeg:https://www.hotairballooning.org/wp-content/uploads/2025/01/General-Meeting-IMAGE.jpg
ORGANIZER;CN="AAAA Board of Directors":MAILTO:board@hotairballooning.org
END:VEVENT
BEGIN:VEVENT
DTSTART;TZID=America/Denver:20261027T183000
DTEND;TZID=America/Denver:20261027T193000
DTSTAMP:20260421T080941
CREATED:20260308T021640Z
LAST-MODIFIED:20260308T021640Z
UID:26516-1793125800-1793129400@www.hotairballooning.org
SUMMARY:General Membership Meeting - October 2026
DESCRIPTION:Come early to socialize with friends! \nVideo link will be sent out via email to members a couple of days prior to the meeting.
URL:https://www.hotairballooning.org/event/general-membership-meeting-october-2026/
LOCATION:Anderson Abruzzo Int’l Balloon Museum\, 9201 Balloon Museum Dr NE\, NM\, 87113\, United States
CATEGORIES:General Meeting
ATTACH;FMTTYPE=image/jpeg:https://www.hotairballooning.org/wp-content/uploads/2025/01/General-Meeting-IMAGE.jpg
ORGANIZER;CN="AAAA Board of Directors":MAILTO:board@hotairballooning.org
END:VEVENT
BEGIN:VEVENT
DTSTART;TZID=America/Denver:20261124T183000
DTEND;TZID=America/Denver:20261124T193000
DTSTAMP:20260421T080941
CREATED:20260308T021745Z
LAST-MODIFIED:20260308T021929Z
UID:26515-1795545000-1795548600@www.hotairballooning.org
SUMMARY:General Membership Meeting - November 2026
DESCRIPTION:Come early to socialize with friends! \nVideo link will be sent out via email to members a couple of days prior to the meeting.
URL:https://www.hotairballooning.org/event/general-membership-meeting-november-2026/
LOCATION:Anderson Abruzzo Int’l Balloon Museum\, 9201 Balloon Museum Dr NE\, NM\, 87113\, United States
CATEGORIES:General Meeting
ATTACH;FMTTYPE=image/jpeg:https://www.hotairballooning.org/wp-content/uploads/2025/01/General-Meeting-IMAGE.jpg
ORGANIZER;CN="AAAA Board of Directors":MAILTO:board@hotairballooning.org
END:VEVENT
END:VCALENDAR