BEGIN:VCALENDAR
VERSION:2.0
PRODID:-//Albuquerque Aerostat Ascension Association (AAAA) - ECPv6.15.17//NONSGML v1.0//EN
CALSCALE:GREGORIAN
METHOD:PUBLISH
X-WR-CALNAME:Albuquerque Aerostat Ascension Association (AAAA)
X-ORIGINAL-URL:https://www.hotairballooning.org
X-WR-CALDESC:Events for Albuquerque Aerostat Ascension Association (AAAA)
REFRESH-INTERVAL;VALUE=DURATION:PT1H
X-Robots-Tag:noindex
X-PUBLISHED-TTL:PT1H
BEGIN:VTIMEZONE
TZID:America/Denver
BEGIN:DAYLIGHT
TZOFFSETFROM:-0700
TZOFFSETTO:-0600
TZNAME:MDT
DTSTART:20230312T090000
END:DAYLIGHT
BEGIN:STANDARD
TZOFFSETFROM:-0600
TZOFFSETTO:-0700
TZNAME:MST
DTSTART:20231105T080000
END:STANDARD
BEGIN:DAYLIGHT
TZOFFSETFROM:-0700
TZOFFSETTO:-0600
TZNAME:MDT
DTSTART:20240310T090000
END:DAYLIGHT
BEGIN:STANDARD
TZOFFSETFROM:-0600
TZOFFSETTO:-0700
TZNAME:MST
DTSTART:20241103T080000
END:STANDARD
BEGIN:DAYLIGHT
TZOFFSETFROM:-0700
TZOFFSETTO:-0600
TZNAME:MDT
DTSTART:20250309T090000
END:DAYLIGHT
BEGIN:STANDARD
TZOFFSETFROM:-0600
TZOFFSETTO:-0700
TZNAME:MST
DTSTART:20251102T080000
END:STANDARD
BEGIN:DAYLIGHT
TZOFFSETFROM:-0700
TZOFFSETTO:-0600
TZNAME:MDT
DTSTART:20260308T090000
END:DAYLIGHT
BEGIN:STANDARD
TZOFFSETFROM:-0600
TZOFFSETTO:-0700
TZNAME:MST
DTSTART:20261101T080000
END:STANDARD
END:VTIMEZONE
BEGIN:VEVENT
DTSTART;TZID=America/Denver:20250316T063000
DTEND;TZID=America/Denver:20250316T083000
DTSTAMP:20260422T035305
CREATED:20250129T142820Z
LAST-MODIFIED:20250129T143031Z
UID:24698-1742106600-1742113800@www.hotairballooning.org
SUMMARY:Top Gun Monthly Flying Event - Day 2
DESCRIPTION:
URL:https://www.hotairballooning.org/event/top-gun-monthly-flying-event-day-2/
CATEGORIES:Regional Event
ATTACH;FMTTYPE=image/jpeg:https://www.hotairballooning.org/wp-content/uploads/2025/01/TOP-GUN-FLYING-EVENT.jpg
END:VEVENT
BEGIN:VEVENT
DTSTART;TZID=America/Denver:20250315T063000
DTEND;TZID=America/Denver:20250315T083000
DTSTAMP:20260422T035305
CREATED:20250129T142728Z
LAST-MODIFIED:20250129T142728Z
UID:24696-1742020200-1742027400@www.hotairballooning.org
SUMMARY:Top Gun Monthly Flying Event - Day 1
DESCRIPTION:
URL:https://www.hotairballooning.org/event/top-gun-monthly-flying-event-march-day-1/
CATEGORIES:Regional Event
ATTACH;FMTTYPE=image/jpeg:https://www.hotairballooning.org/wp-content/uploads/2025/01/TOP-GUN-FLYING-EVENT.jpg
END:VEVENT
BEGIN:VEVENT
DTSTART;VALUE=DATE:20250315
DTEND;VALUE=DATE:20250317
DTSTAMP:20260422T035305
CREATED:20250308T002318Z
LAST-MODIFIED:20250308T002318Z
UID:24978-1741996800-1742169599@www.hotairballooning.org
SUMMARY:St. Patrick's Day Balloon Rallye ~ Belen\, NM
DESCRIPTION:The 39th Annual St. Patrick’s Balloon Rallye is right around the corner!\n\nWhen: Saturday and Sunday\, March 15th – 16th\, from 7am – noon\n\nWhere: Eagle Park\, 305 Eagle Lane. Please use Christopher Road to enter the park area.\n\nThere will be food trucks and vendors\, and you’ll be able to visit the Veterans Veterans Information Center and Belen’s Eagle Park Veterans Memorial!\n\n\n*Please note\, all activities are weather permitting
URL:https://www.hotairballooning.org/event/st-patricks-day-balloon-rallye-belen-nm/
LOCATION:Belen\, NM\, Belen\, NM
CATEGORIES:Regional Event
ATTACH;FMTTYPE=image/png:https://www.hotairballooning.org/wp-content/uploads/2025/03/Screenshot-2025-03-07-at-5.18.39 PM.png
END:VEVENT
BEGIN:VEVENT
DTSTART;TZID=America/Denver:20250310T180000
DTEND;TZID=America/Denver:20250310T190000
DTSTAMP:20260422T035305
CREATED:20250108T174553Z
LAST-MODIFIED:20250108T175312Z
UID:2628-1741629600-1741633200@www.hotairballooning.org
SUMMARY:Education Committee Meeting - March 2025
DESCRIPTION:All meetings take place via Zoom. Please contact the Education Committee Chair for a meeting link.
URL:https://www.hotairballooning.org/event/education-committee-meeting-march-2025/
LOCATION:Via Zoom Only
CATEGORIES:Education
ATTACH;FMTTYPE=image/jpeg:https://www.hotairballooning.org/wp-content/uploads/2025/01/Education-Committee.jpg
END:VEVENT
BEGIN:VEVENT
DTSTART;TZID=America/Denver:20250309T063000
DTEND;TZID=America/Denver:20250309T100000
DTSTAMP:20260422T035305
CREATED:20250105T163859Z
LAST-MODIFIED:20250403T011126Z
UID:1999-1741501800-1741514400@www.hotairballooning.org
SUMMARY:AAAA Flying Event - Balloon Fiesta Park
DESCRIPTION:* REMEMBER THE TIME CHANGE * \nLOCATION: Balloon Fiesta Park – We will meet in the NE corner\, entrance off Balloon Fiesta Parkway. \n0630 – Registration \n0700 – Pilot Briefing \nBe sure to get your COUs filled out… go to this link to access the form.
URL:https://www.hotairballooning.org/event/flying-event-balloon-fiesta-park-march-2025/
CATEGORIES:Monthly Flying Event
ATTACH;FMTTYPE=image/jpeg:https://www.hotairballooning.org/wp-content/uploads/2025/01/Flying-Event-ALBUQUERQUE.jpg
END:VEVENT
BEGIN:VEVENT
DTSTART;VALUE=DATE:20250301
DTEND;VALUE=DATE:20250302
DTSTAMP:20260422T035305
CREATED:20250119T012900Z
LAST-MODIFIED:20250119T012900Z
UID:24228-1740787200-1740873599@www.hotairballooning.org
SUMMARY:AERCO Annual LTA Safety Seminar
DESCRIPTION:
URL:https://www.hotairballooning.org/event/aerco-annual-lta-safety-seminar/
LOCATION:Sid Cutter Pavilion\, 4900 Balloon Fiesta Pkwy NE\, Albuquerque\, NM\, 87113\, United States
CATEGORIES:Regional Event
ATTACH;FMTTYPE=image/jpeg:https://www.hotairballooning.org/wp-content/uploads/2025/01/AERCO-Safety-Seminar.jpg
END:VEVENT
BEGIN:VEVENT
DTSTART;TZID=America/Denver:20250225T183000
DTEND;TZID=America/Denver:20250225T193000
DTSTAMP:20260422T035305
CREATED:20250105T170821Z
LAST-MODIFIED:20250223T145652Z
UID:2023-1740508200-1740511800@www.hotairballooning.org
SUMMARY:General Membership Meeting - February 2025
DESCRIPTION:NOTE – This month\, we will be in the FIRST FLOOR meeting room of the museum\, due to the elevator being out of commission. \nThis month’s program will be Barbara Fricke and Peter Cuneo giving us a recount of their experience with the Coupe Aeronautique Gordon Bennett that ended with some astonishing landings in Portugal. \nCome early to socialize with friends… doors open at 6pm! \nWe will also be on Zoom for this month\, although be looking for changes to the Zoom option in the upcoming months. This month’s Zoom link can be found in the membership email from 2/22/25.
URL:https://www.hotairballooning.org/event/general-membership-meeting-february-2025/
LOCATION:Anderson Abruzzo Int’l Balloon Museum\, 9201 Balloon Museum Dr NE\, NM\, 87113\, United States
CATEGORIES:General Meeting
ATTACH;FMTTYPE=image/jpeg:https://www.hotairballooning.org/wp-content/uploads/2025/01/General-Meeting-IMAGE.jpg
ORGANIZER;CN="AAAA Board of Directors":MAILTO:board@hotairballooning.org
END:VEVENT
BEGIN:VEVENT
DTSTART;VALUE=DATE:20250221
DTEND;VALUE=DATE:20250224
DTSTAMP:20260422T035305
CREATED:20250108T180329Z
LAST-MODIFIED:20250129T153457Z
UID:2645-1740096000-1740355199@www.hotairballooning.org
SUMMARY:PRIVATE Pilot Ground School (In-Person)
DESCRIPTION:[SOLD OUT]\nAre you looking to become a Private Hot Air Balloon Pilot? This is the place to get the ground instruction you need to pass the written FAA Knowledge Exam. \nWith this Ground School you will be provided with the following manuals: \n\nTest Prep (ASA) Private Pilot – 2025 Version\nASA Rotating Plotter\nCurrent Denver Sectional\nAAAA Weight/Temperature Calculator\nClass Notebook which contains all the slides and handouts\nStudents Endorsement to take the FAA ‘written’ knowledge test\n\nThank You…\nAAAA Education Committee \nGround School Agenda\n\n\n\nFRIDAY EVENING\n\n\n5:30 — 5:45\nRegistration\nMike Voorhees\n\n\n5:45 — 6:00\nIntroductions\, Overview & Housekeeping\nMike Voorhees\n\n\n6:00 — 9:00\nSectional Charts and Airspace\nBeth Wright-Smith\n\n\nSATURDAY\n\n\n7:15 — 7:30\nSign in & Review of 1st day\nMike Voorhees\n\n\n7:30 — 8:30\nFundamentals & Altimetry\nNeal Smith\n\n\n\nBreak\n\n\n8:45 — 9:45\nNavigation/Plotting\nKen Beebe\n\n\n\nBreak\n\n\n10:00 — 12:30\nRegulations / FAR’s (14 CFR)\nJ D Huss\n\n\n12:30 — 1:45\nLUNCH (on your own)\n\n\n1:45 — 2:45\nBalloon Systems & Propane\nNatasha Stanke\n\n\n\nBreak\n\n\n3:00 — 4:00\nAircraft Performance\nNeal Smith\n\n\n\nBreak\n\n\n4:15 — 5:30\nAirport Ops\, Medical Facts\, ADM\nPeter Cuneo\n\n\nSUNDAY\n\n\n7:15 — 7:30\nSign in & Review of 2nd day\nMike Voorhees\n\n\n7:30 — 10:30\nWeather Theory\nDavid Tennis\n\n\n\nBreak\n\n\n10:45 — 11:45\nCommunications\nKen Beebe\n\n\n11:45 — 1:00\nLUNCH (on your own)\n\n\n\n1:00 — 3:00\nWeather Services\nBarbara Fricke\n\n\n\nBreak\n\n\n3:15 — 4:15\nStoryboard Balloon Flight\nRay Bair\n\n\n4:15 — 5:00\nObtaining FAA Pilot Certificates\nBeth Wright-Smith & Barbara Fricke\n\n\n5:00\nTurn in evaluations\, get sign off for FAA written exam\n\n\n\n 
URL:https://www.hotairballooning.org/event/private-pilot-ground-school-in-person-2025/
LOCATION:Balloon Fiesta Main Office\, 4401 Alameda Blvd NE\, Albuque\, NM\, 87113
CATEGORIES:Education
ATTACH;FMTTYPE=image/jpeg:https://www.hotairballooning.org/wp-content/uploads/2025/01/Private-Pilot-IN-PERSON.jpg
END:VEVENT
BEGIN:VEVENT
DTSTART;TZID=America/Denver:20250217T173000
DTEND;TZID=America/Denver:20250217T193000
DTSTAMP:20260422T035305
CREATED:20250105T161648Z
LAST-MODIFIED:20250216T180836Z
UID:1977-1739813400-1739820600@www.hotairballooning.org
SUMMARY:Board Meeting - February 2025
DESCRIPTION:
URL:https://www.hotairballooning.org/event/board-meeting-february-2025/
LOCATION:Siarza\, 6100 Seagull Street NE\, Suite B201\, Albuquerque\, NM\, 87109\, United States
CATEGORIES:Board Meetings
ATTACH;FMTTYPE=image/jpeg:https://www.hotairballooning.org/wp-content/uploads/2025/01/Board-Meeting.jpg
ORGANIZER;CN="AAAA Board of Directors":MAILTO:board@hotairballooning.org
END:VEVENT
BEGIN:VEVENT
DTSTART;TZID=America/Denver:20250215T063000
DTEND;TZID=America/Denver:20250215T083000
DTSTAMP:20260422T035305
CREATED:20250129T141232Z
LAST-MODIFIED:20250129T141609Z
UID:24686-1739601000-1739608200@www.hotairballooning.org
SUMMARY:Top Gun Monthly Flying Event
DESCRIPTION:
URL:https://www.hotairballooning.org/event/top-gun-monthly-flying-event/
CATEGORIES:Regional Event
ATTACH;FMTTYPE=image/jpeg:https://www.hotairballooning.org/wp-content/uploads/2025/01/TOP-GUN-FLYING-EVENT.jpg
END:VEVENT
BEGIN:VEVENT
DTSTART;TZID=America/Denver:20250210T180000
DTEND;TZID=America/Denver:20250210T190000
DTSTAMP:20260422T035305
CREATED:20250108T174256Z
LAST-MODIFIED:20250108T174256Z
UID:2629-1739210400-1739214000@www.hotairballooning.org
SUMMARY:Education Committee Meeting - February 2025
DESCRIPTION:All meetings take place via Zoom. Please contact the Education Committee Chair for a meeting link.
URL:https://www.hotairballooning.org/event/education-committee-meeting-february-2025/
LOCATION:Via Zoom Only
CATEGORIES:Education
ATTACH;FMTTYPE=image/jpeg:https://www.hotairballooning.org/wp-content/uploads/2025/01/Education-Committee.jpg
END:VEVENT
BEGIN:VEVENT
DTSTART;TZID=America/Denver:20250209T054500
DTEND;TZID=America/Denver:20250209T100000
DTSTAMP:20260422T035305
CREATED:20250122T180427Z
LAST-MODIFIED:20250202T141753Z
UID:24312-1739079900-1739095200@www.hotairballooning.org
SUMMARY:Sunday FLYING — February 9 — Friends & Lovers Rally
DESCRIPTION:PILOT BRIEFING:\n\nThe (MAC) McDermott Athletic Center —\n801 Loma Colorado Blvd\, Rio Rancho\, NM 87124 \n5:45 AM – Doors Open for Pilot Briefing \n6:30 AM – Pilot Briefing Begins\nPresented by Kristelle Siarza Moon and Ian Whitling\nPublic address by the 2025 Balloonmeistern\nUpdates on special events and party details \n7:00 AM – All pilots released to their respective launch locations \nLAUNCH SITES:\nLaunch locations will be finalized based on weather conditions and site approvals\, with proposed areas including schools and parks in Rio Rancho. Pilots are expected to collaborate and coordinate with one another to ensure their launch windows do not overlap or interfere. \nPARKING:\nPilots are encouraged to park at The MAC\, while crew members should use the parking areas at the Rio Rancho Library or Lowe’s. Pilots can then pick up their crew from these locations. This system operates similarly to the Balloon Fiesta N-Lot but with a more flexible approach. \nPROPANE:\nPropane will be available for all pilots participating in the event. Logistics will be determined and released as soon as possible.
URL:https://www.hotairballooning.org/event/sunday-flying-february-9-friends-lovers-rally/
LOCATION:The MAC in Rio Rancho\, 801 Loma Colorado Dr. NE\, Rio Rancho\, NM\, 87124
CATEGORIES:Monthly Flying Event,Special Event
ATTACH;FMTTYPE=image/jpeg:https://www.hotairballooning.org/wp-content/uploads/2025/01/FL-SUNDAY-1.jpg
END:VEVENT
BEGIN:VEVENT
DTSTART;TZID=America/Denver:20250208T100000
DTEND;TZID=America/Denver:20250208T140000
DTSTAMP:20260422T035305
CREATED:20250122T175431Z
LAST-MODIFIED:20250202T143002Z
UID:24305-1739008800-1739023200@www.hotairballooning.org
SUMMARY:Saturday PARTY — February 8 — Friends & Lovers Rally
DESCRIPTION:Location:\nThe BLOCK Container Park\n7805 Enchanted Hills Blvd. NE\, Rio Rancho – 10am – 2pm \nLet’s celebrate our amazing balloon crews with live music by The Nate Fox Band\, country and rock & roll hits\, and tons of fun! Enjoy a silent auction\, raffles\, baggie decorating\, tailgating games\, the Crew of the Year Awards\, and more. Food and drinks will be available for purchase\, hosted appetizers and drinks — no outside food or beverages allowed. Don’t miss this unforgettable crew appreciation party! \nSchedule of Events:\n\nSilent Auction: Closes at 12:30 PM\nLive Country Band: Performances from 11:00 AM to 1:00 PM\nMerchandise & Raffle Sales: Available throughout the event\n\nOn-Site Vendor Specials:\n\nEl Chamo Arabe Express\nStackers\nKūKri\nLos Tacos del Rey\nSuga Suga\nThe Boba Lounge\nThicc Pizza Co.\nThe Crepe Corner\nTavern on the Green\nLink Link\nThe Mini Bar\n\nAdditional Activities:\n\nBaggie Drop-Off and Judging (scroll down for submission guidelines)\nUltimate Tailgating Games\nRecognition Ceremony: Celebrating the Crew of the Year and Balloonmeistern\n\n. \n\n. \nBaggie Decorating Contest\nSubmission Guidelines:\n\nSafety First: Baggies must not pose any hazards when dropped from a balloon.\nTheme Required: All entries must talk\, demonstrate and show love\nExtra Points: Use red or pink colors for bonus points.\nWeight Limit: Each baggie\, including its tail and decorations\, must weigh no more than 4 oz.\nTail Specifications: Tails must be between 2 to 4 feet long and include the following information: Balloon Name\, Pilot Name\, and Crew Chief Name.\n\nJudging & Awards:\nThe Balloonmeistern will evaluate baggies based on appearance\, creativity\, and adherence to guidelines. The winner will be announced at the pilot briefing on Sunday. \nAdditional Details:\n\nTwo matching or complementary baggies are required: one for the Pilot (for competition\, pending flying events) and one for the crew to use in their competition.\nBaggies will be available for pick-up before the Pilot Briefing on Sunday morning.\nShow off your creativity and flair while staying true to the theme—good luck\, and we can’t wait to see your designs!
URL:https://www.hotairballooning.org/event/saturday-party-february-8-friends-lovers-rally/
LOCATION:The BLOCK in Rio Rancho\, 7805 Enchanted Hills Blvd. NE\, Rio Rancho\, NM\, 87144
CATEGORIES:Monthly Flying Event,Special Event
ATTACH;FMTTYPE=image/jpeg:https://www.hotairballooning.org/wp-content/uploads/2025/01/FL-SATURDAY-party.jpg
END:VEVENT
BEGIN:VEVENT
DTSTART;TZID=America/Denver:20250208T054500
DTEND;TZID=America/Denver:20250208T100000
DTSTAMP:20260422T035305
CREATED:20250105T165622Z
LAST-MODIFIED:20250202T141631Z
UID:2011-1738993500-1739008800@www.hotairballooning.org
SUMMARY:Saturday FLYING — February 8 — Friends & Lovers Rally
DESCRIPTION:PILOT BRIEFING:\n\nThe (MAC) McDermott Athletic Center —\n801 Loma Colorado Blvd\, Rio Rancho\, NM 87124 \n5:45 AM – Doors Open for Pilot Briefing \n6:30 AM – Pilot Briefing Begins\nPresented by Kristelle Siarza Moon and Ian Whitling\nPublic address by the 2025 Balloonmeistern\nUpdates on special events and party details \n7:00 AM – All pilots released to their respective launch locations \nLAUNCH SITES:\nLaunch locations will be finalized based on weather conditions and site approvals\, with proposed areas including schools and parks in Rio Rancho. Pilots are expected to collaborate and coordinate with one another to ensure their launch windows do not overlap or interfere. \nPARKING:\nPilots are encouraged to park at The MAC\, while crew members should use the parking areas at the Rio Rancho Library or Lowe’s. Pilots can then pick up their crew from these locations. This system operates similarly to the Balloon Fiesta N-Lot but with a more flexible approach. \nPROPANE:\nPropane will be available for all pilots participating in the event. Logistics will be determined and released as soon as possible.
URL:https://www.hotairballooning.org/event/saturday-flying-february-8-friends-lovers-rally/
LOCATION:The MAC in Rio Rancho\, 801 Loma Colorado Dr. NE\, Rio Rancho\, NM\, 87124
CATEGORIES:Monthly Flying Event,Special Event
ATTACH;FMTTYPE=image/jpeg:https://www.hotairballooning.org/wp-content/uploads/2025/01/FL-SATURDAY-1.jpg
END:VEVENT
BEGIN:VEVENT
DTSTART;TZID=America/Denver:20250207T170000
DTEND;TZID=America/Denver:20250207T190000
DTSTAMP:20260422T035305
CREATED:20250119T155709Z
LAST-MODIFIED:20250202T140854Z
UID:24239-1738947600-1738954800@www.hotairballooning.org
SUMMARY:PILOT DROP-IN REGISTRATION — Friends & Lovers Rally
DESCRIPTION:Pilots\, we invite you to stop by to register and pick up your parking passes and crew gifts. If you can’t attend\, your Crew Chief or a crew member is welcome to handle it on your behalf. Please note\, this is a DROP-IN event. Those in attendance are encouraged to hang out at the brewery afterwards — food & drink are on-your-own. \nScroll down for location & map.
URL:https://www.hotairballooning.org/event/pilot-drop-in-registration-friends-lovers-rally/
LOCATION:Bosque Brewery\, 6220 San Mateo Blvd. NE\, Albuquerque\, NM\, 87109
CATEGORIES:Monthly Flying Event,Special Event
ATTACH;FMTTYPE=image/jpeg:https://www.hotairballooning.org/wp-content/uploads/2025/01/FL-Pilot-Check-In-1.jpg
END:VEVENT
BEGIN:VEVENT
DTSTART;TZID=America/Denver:20250128T180000
DTEND;TZID=America/Denver:20250128T210000
DTSTAMP:20260422T035305
CREATED:20250108T180704Z
LAST-MODIFIED:20250127T022544Z
UID:2650-1738087200-1738098000@www.hotairballooning.org
SUMMARY:Awards & Recognitions Banquet
DESCRIPTION:* EVENT IS SOLD OUT *\n\n\n\nJoin us in celebrating the achievements of the Top 20 Pilots in the AAAA competition and acknowledging the invaluable contributions of volunteers\, sponsors\, and leaders within the ballooning community! \n\n\n\n**AAAA SPONSORS – Please email Ways-Means@HotAirBallooning.org to RSVP \n\n\n\nWHEN: Tuesday\, January 28\, 2025 6pm Cocktail Hour / 7pm Dinner / Program Ends 9pm \n\n\n\nWHERE: Seasons Rotisserie & Grill – Old Town 2031 Mountain Road NW\, Albuquerque\, NM 87104 \n\n\n\nDRESS CODE: Casual Cocktail Attire \n\n\n\nSILENT AUCTION: Be prepared for an exclusive silent auction during the event… arrive early\, bid often! \n\n\n\nMENU: Guests can choose between the Signature Half Chicken Dish and Vegetarian House-Made Ravioli Dish
URL:https://www.hotairballooning.org/event/awards-recognitions-banquet/
CATEGORIES:General Meeting
ATTACH;FMTTYPE=image/jpeg:https://www.hotairballooning.org/wp-content/uploads/2024/12/SOCIAL-2024-Awards-Banquet.jpg
END:VEVENT
BEGIN:VEVENT
DTSTART;TZID=America/Denver:20250120T173000
DTEND;TZID=America/Denver:20250120T193000
DTSTAMP:20260422T035305
CREATED:20250105T154329Z
LAST-MODIFIED:20250105T180628Z
UID:1960-1737394200-1737401400@www.hotairballooning.org
SUMMARY:Board Meeting - January 2025
DESCRIPTION:
URL:https://www.hotairballooning.org/event/board-meeting-january-2025/
LOCATION:Siarza\, 6100 Seagull Street NE\, Suite B201\, Albuquerque\, NM\, 87109\, United States
CATEGORIES:Board Meetings
ATTACH;FMTTYPE=image/jpeg:https://www.hotairballooning.org/wp-content/uploads/2025/01/Board-Meeting.jpg
ORGANIZER;CN="AAAA Board of Directors":MAILTO:board@hotairballooning.org
END:VEVENT
BEGIN:VEVENT
DTSTART;TZID=America/Denver:20250113T180000
DTEND;TZID=America/Denver:20250113T190000
DTSTAMP:20260422T035305
CREATED:20250108T175233Z
LAST-MODIFIED:20250108T180543Z
UID:2643-1736791200-1736794800@www.hotairballooning.org
SUMMARY:Education Committee Meeting - January 2025
DESCRIPTION:All meetings take place via Zoom. Please contact the Education Committee Chair for a meeting link.
URL:https://www.hotairballooning.org/event/education-committee-meeting-january-2025/
LOCATION:Via Zoom Only
CATEGORIES:Education
ATTACH;FMTTYPE=image/jpeg:https://www.hotairballooning.org/wp-content/uploads/2025/01/Education-Committee.jpg
END:VEVENT
BEGIN:VEVENT
DTSTART;TZID=America/Denver:20250111T060000
DTEND;TZID=America/Denver:20250111T100000
DTSTAMP:20260422T035305
CREATED:20250105T163344Z
LAST-MODIFIED:20250403T011139Z
UID:1996-1736575200-1736589600@www.hotairballooning.org
SUMMARY:AAAA Flying Event - Rio Rancho
DESCRIPTION:LOCATION: the field across from Joe Harris Elementary School \nREGISTRATION: 0600 \nBRIEFING: 0630
URL:https://www.hotairballooning.org/event/flying-event-rio-rancho-january-2025/
LOCATION:Rio Rancho\, Rio Rancho\, NM\, United States
CATEGORIES:Monthly Flying Event
ATTACH;FMTTYPE=image/jpeg:https://www.hotairballooning.org/wp-content/uploads/2025/01/Flying-Event-RIO-RANCHO.jpg
END:VEVENT
BEGIN:VEVENT
DTSTART;TZID=America/Denver:20241224T000000
DTEND;TZID=America/Denver:20241224T000000
DTSTAMP:20260422T035305
CREATED:20250105T191939Z
LAST-MODIFIED:20250105T191939Z
UID:2403-1734998400-1734998400@www.hotairballooning.org
SUMMARY:December 2024 NO Membership Meeting
DESCRIPTION:
URL:https://www.hotairballooning.org/event/december-2024-no-membership-meeting/
END:VEVENT
BEGIN:VEVENT
DTSTART;TZID=America/Denver:20241216T180000
DTEND;TZID=America/Denver:20241216T190000
DTSTAMP:20260422T035305
CREATED:20250105T190631Z
LAST-MODIFIED:20250105T190631Z
UID:2091-1734372000-1734375600@www.hotairballooning.org
SUMMARY:Board Meeting
DESCRIPTION:Monthly Board Meeting
URL:https://www.hotairballooning.org/event/board-meeting-9/
END:VEVENT
BEGIN:VEVENT
DTSTART;TZID=America/Denver:20241214T061500
DTEND;TZID=America/Denver:20241214T120000
DTSTAMP:20260422T035305
CREATED:20250105T190647Z
LAST-MODIFIED:20250105T190647Z
UID:2097-1734156900-1734177600@www.hotairballooning.org
SUMMARY:Jingle Bell Non-rally (December Flying Event)
DESCRIPTION:Monthly Flying Event
URL:https://www.hotairballooning.org/event/jingle-bell-non-rally-december-flying-event/
END:VEVENT
BEGIN:VEVENT
DTSTART;TZID=America/Denver:20241209T180000
DTEND;TZID=America/Denver:20241209T193000
DTSTAMP:20260422T035305
CREATED:20250105T190807Z
LAST-MODIFIED:20250105T190807Z
UID:2148-1733767200-1733772600@www.hotairballooning.org
SUMMARY:Education Committee
DESCRIPTION:
URL:https://www.hotairballooning.org/event/education-committee/
END:VEVENT
BEGIN:VEVENT
DTSTART;TZID=America/Denver:20241126T183000
DTEND;TZID=America/Denver:20241126T193000
DTSTAMP:20260422T035305
CREATED:20250105T190854Z
LAST-MODIFIED:20250105T190854Z
UID:2169-1732645800-1732649400@www.hotairballooning.org
SUMMARY:November 2024 Membership Meeting
DESCRIPTION:
URL:https://www.hotairballooning.org/event/november-2024-membership-meeting/
END:VEVENT
BEGIN:VEVENT
DTSTART;TZID=America/Denver:20241118T180000
DTEND;TZID=America/Denver:20241118T190000
DTSTAMP:20260422T035305
CREATED:20250105T190631Z
LAST-MODIFIED:20250105T190631Z
UID:2090-1731952800-1731956400@www.hotairballooning.org
SUMMARY:Board Meeting – CANCELLED
DESCRIPTION:Nov 18 Board Meeting CANCELLED. New date TBA soon.
URL:https://www.hotairballooning.org/event/board-meeting-cancelled/
END:VEVENT
BEGIN:VEVENT
DTSTART;TZID=America/Denver:20241111T180000
DTEND;TZID=America/Denver:20241111T193000
DTSTAMP:20260422T035305
CREATED:20250105T190822Z
LAST-MODIFIED:20250105T190823Z
UID:2155-1731348000-1731353400@www.hotairballooning.org
SUMMARY:Education Committee
DESCRIPTION:
URL:https://www.hotairballooning.org/event/education-committee-3/
END:VEVENT
BEGIN:VEVENT
DTSTART;TZID=America/Denver:20241022T183000
DTEND;TZID=America/Denver:20241022T193000
DTSTAMP:20260422T035305
CREATED:20250105T190854Z
LAST-MODIFIED:20250105T190854Z
UID:2170-1729621800-1729625400@www.hotairballooning.org
SUMMARY:October 2024 Membership Meeting
DESCRIPTION:
URL:https://www.hotairballooning.org/event/october-2024-membership-meeting/
END:VEVENT
BEGIN:VEVENT
DTSTART;TZID=America/Denver:20241014T180000
DTEND;TZID=America/Denver:20241014T190000
DTSTAMP:20260422T035305
CREATED:20250105T190631Z
LAST-MODIFIED:20250105T190631Z
UID:2089-1728928800-1728932400@www.hotairballooning.org
SUMMARY:Board Meeting
DESCRIPTION:Monthly Board Meeting
URL:https://www.hotairballooning.org/event/board-meeting-8/
END:VEVENT
BEGIN:VEVENT
DTSTART;TZID=America/Denver:20241008T130000
DTEND;TZID=America/Denver:20241008T170000
DTSTAMP:20260422T035305
CREATED:20250105T190647Z
LAST-MODIFIED:20250105T190647Z
UID:2096-1728392400-1728406800@www.hotairballooning.org
SUMMARY:Fiesta Safety Seminar
DESCRIPTION:Annual AAAA Balloon Fiesta Safety Seminar
URL:https://www.hotairballooning.org/event/fiesta-safety-seminar/
END:VEVENT
BEGIN:VEVENT
DTSTART;TZID=America/Denver:20240924T183000
DTEND;TZID=America/Denver:20240924T193000
DTSTAMP:20260422T035305
CREATED:20250105T190854Z
LAST-MODIFIED:20250105T190854Z
UID:2171-1727202600-1727206200@www.hotairballooning.org
SUMMARY:September 2024 Membership Meeting
DESCRIPTION:
URL:https://www.hotairballooning.org/event/september-2024-membership-meeting/
END:VEVENT
END:VCALENDAR