BEGIN:VCALENDAR
VERSION:2.0
PRODID:-//Albuquerque Aerostat Ascension Association (AAAA) - ECPv6.15.17//NONSGML v1.0//EN
CALSCALE:GREGORIAN
METHOD:PUBLISH
X-WR-CALNAME:Albuquerque Aerostat Ascension Association (AAAA)
X-ORIGINAL-URL:https://www.hotairballooning.org
X-WR-CALDESC:Events for Albuquerque Aerostat Ascension Association (AAAA)
REFRESH-INTERVAL;VALUE=DURATION:PT1H
X-Robots-Tag:noindex
X-PUBLISHED-TTL:PT1H
BEGIN:VTIMEZONE
TZID:America/Denver
BEGIN:DAYLIGHT
TZOFFSETFROM:-0700
TZOFFSETTO:-0600
TZNAME:MDT
DTSTART:20230312T090000
END:DAYLIGHT
BEGIN:STANDARD
TZOFFSETFROM:-0600
TZOFFSETTO:-0700
TZNAME:MST
DTSTART:20231105T080000
END:STANDARD
BEGIN:DAYLIGHT
TZOFFSETFROM:-0700
TZOFFSETTO:-0600
TZNAME:MDT
DTSTART:20240310T090000
END:DAYLIGHT
BEGIN:STANDARD
TZOFFSETFROM:-0600
TZOFFSETTO:-0700
TZNAME:MST
DTSTART:20241103T080000
END:STANDARD
BEGIN:DAYLIGHT
TZOFFSETFROM:-0700
TZOFFSETTO:-0600
TZNAME:MDT
DTSTART:20250309T090000
END:DAYLIGHT
BEGIN:STANDARD
TZOFFSETFROM:-0600
TZOFFSETTO:-0700
TZNAME:MST
DTSTART:20251102T080000
END:STANDARD
END:VTIMEZONE
BEGIN:VEVENT
DTSTART;TZID=America/Denver:20240902T000000
DTEND;TZID=America/Denver:20240902T000000
DTSTAMP:20260422T072057
CREATED:20250105T190720Z
LAST-MODIFIED:20250105T190720Z
UID:2120-1725235200-1725235200@www.hotairballooning.org
SUMMARY:Labor Day
DESCRIPTION:
URL:https://www.hotairballooning.org/event/labor-day/
END:VEVENT
BEGIN:VEVENT
DTSTART;TZID=America/Denver:20240908T060000
DTEND;TZID=America/Denver:20240908T093000
DTSTAMP:20260422T072057
CREATED:20250105T190720Z
LAST-MODIFIED:20250105T190720Z
UID:2121-1725775200-1725787800@www.hotairballooning.org
SUMMARY:September Flying Event
DESCRIPTION:Monthly Flying Event
URL:https://www.hotairballooning.org/event/september-flying-event/
END:VEVENT
BEGIN:VEVENT
DTSTART;TZID=America/Denver:20240909T180000
DTEND;TZID=America/Denver:20240909T193000
DTSTAMP:20260422T072057
CREATED:20250105T190822Z
LAST-MODIFIED:20250105T190823Z
UID:2154-1725904800-1725910200@www.hotairballooning.org
SUMMARY:Education Committee
DESCRIPTION:
URL:https://www.hotairballooning.org/event/education-committee-2/
END:VEVENT
BEGIN:VEVENT
DTSTART;TZID=America/Denver:20240916T180000
DTEND;TZID=America/Denver:20240916T190000
DTSTAMP:20260422T072057
CREATED:20250105T190616Z
LAST-MODIFIED:20250105T190616Z
UID:2088-1726509600-1726513200@www.hotairballooning.org
SUMMARY:Board Meeting
DESCRIPTION:Monthly Board Meeting
URL:https://www.hotairballooning.org/event/board-meeting-7/
END:VEVENT
BEGIN:VEVENT
DTSTART;TZID=America/Denver:20240924T183000
DTEND;TZID=America/Denver:20240924T193000
DTSTAMP:20260422T072057
CREATED:20250105T190854Z
LAST-MODIFIED:20250105T190854Z
UID:2171-1727202600-1727206200@www.hotairballooning.org
SUMMARY:September 2024 Membership Meeting
DESCRIPTION:
URL:https://www.hotairballooning.org/event/september-2024-membership-meeting/
END:VEVENT
END:VCALENDAR