BEGIN:VCALENDAR
VERSION:2.0
PRODID:-//Albuquerque Aerostat Ascension Association (AAAA) - ECPv6.15.17//NONSGML v1.0//EN
CALSCALE:GREGORIAN
METHOD:PUBLISH
X-WR-CALNAME:Albuquerque Aerostat Ascension Association (AAAA)
X-ORIGINAL-URL:https://www.hotairballooning.org
X-WR-CALDESC:Events for Albuquerque Aerostat Ascension Association (AAAA)
REFRESH-INTERVAL;VALUE=DURATION:PT1H
X-Robots-Tag:noindex
X-PUBLISHED-TTL:PT1H
BEGIN:VTIMEZONE
TZID:America/Denver
BEGIN:DAYLIGHT
TZOFFSETFROM:-0700
TZOFFSETTO:-0600
TZNAME:MDT
DTSTART:20240310T090000
END:DAYLIGHT
BEGIN:STANDARD
TZOFFSETFROM:-0600
TZOFFSETTO:-0700
TZNAME:MST
DTSTART:20241103T080000
END:STANDARD
BEGIN:DAYLIGHT
TZOFFSETFROM:-0700
TZOFFSETTO:-0600
TZNAME:MDT
DTSTART:20250309T090000
END:DAYLIGHT
BEGIN:STANDARD
TZOFFSETFROM:-0600
TZOFFSETTO:-0700
TZNAME:MST
DTSTART:20251102T080000
END:STANDARD
BEGIN:DAYLIGHT
TZOFFSETFROM:-0700
TZOFFSETTO:-0600
TZNAME:MDT
DTSTART:20260308T090000
END:DAYLIGHT
BEGIN:STANDARD
TZOFFSETFROM:-0600
TZOFFSETTO:-0700
TZNAME:MST
DTSTART:20261101T080000
END:STANDARD
END:VTIMEZONE
BEGIN:VEVENT
DTSTART;TZID=America/Denver:20250407T180000
DTEND;TZID=America/Denver:20250407T190000
DTSTAMP:20260421T215623
CREATED:20250108T174634Z
LAST-MODIFIED:20250108T174634Z
UID:2627-1744048800-1744052400@www.hotairballooning.org
SUMMARY:Education Committee Meeting - April 2025
DESCRIPTION:All meetings take place via Zoom. Please contact the Education Committee Chair for a meeting link.
URL:https://www.hotairballooning.org/event/education-committee-meeting-april-2025/
LOCATION:Via Zoom Only
CATEGORIES:Education
ATTACH;FMTTYPE=image/jpeg:https://www.hotairballooning.org/wp-content/uploads/2025/01/Education-Committee.jpg
END:VEVENT
BEGIN:VEVENT
DTSTART;VALUE=DATE:20250412
DTEND;VALUE=DATE:20250413
DTSTAMP:20260421T215623
CREATED:20250105T165836Z
LAST-MODIFIED:20250404T232518Z
UID:2013-1744416000-1744502399@www.hotairballooning.org
SUMMARY:AAAA Flying Event - Rio Rancho
DESCRIPTION:LOCATION: Westside and 10th across from Joe Harris Elementary School \n5:45 am – Registration Begins \n6:15 am – Pilot Briefing \nPlease click on this link to PRE-REGISTER before Saturday morning.
URL:https://www.hotairballooning.org/event/flying-event-rio-rancho-april-2025/
LOCATION:Rio Rancho\, Rio Rancho\, NM\, United States
CATEGORIES:Monthly Flying Event
ATTACH;FMTTYPE=image/jpeg:https://www.hotairballooning.org/wp-content/uploads/2025/01/Flying-Event-RIO-RANCHO.jpg
END:VEVENT
BEGIN:VEVENT
DTSTART;TZID=America/Denver:20250414T173000
DTEND;TZID=America/Denver:20250414T193000
DTSTAMP:20260421T215623
CREATED:20250105T161944Z
LAST-MODIFIED:20250105T180509Z
UID:1976-1744651800-1744659000@www.hotairballooning.org
SUMMARY:Board Meeting - April 2025
DESCRIPTION:
URL:https://www.hotairballooning.org/event/board-meeting-april-2025/
CATEGORIES:Board Meetings
ATTACH;FMTTYPE=image/jpeg:https://www.hotairballooning.org/wp-content/uploads/2025/01/Board-Meeting.jpg
ORGANIZER;CN="AAAA Board of Directors":MAILTO:board@hotairballooning.org
END:VEVENT
BEGIN:VEVENT
DTSTART;VALUE=DATE:20250419
DTEND;VALUE=DATE:20250420
DTSTAMP:20260421T215623
CREATED:20250129T143424Z
LAST-MODIFIED:20250606T013628Z
UID:24695-1745020800-1745107199@www.hotairballooning.org
SUMMARY:Top Gun Monthly Flying Event
DESCRIPTION:
URL:https://www.hotairballooning.org/event/top-gun-monthly-flying-event-april/
CATEGORIES:Regional Event
ATTACH;FMTTYPE=image/jpeg:https://www.hotairballooning.org/wp-content/uploads/2025/01/TOP-GUN-FLYING-EVENT.jpg
END:VEVENT
BEGIN:VEVENT
DTSTART;TZID=America/Denver:20250422T183000
DTEND;TZID=America/Denver:20250422T193000
DTSTAMP:20260421T215623
CREATED:20250105T181506Z
LAST-MODIFIED:20250417T123125Z
UID:2032-1745346600-1745350200@www.hotairballooning.org
SUMMARY:General Membership Meeting - April 2025
DESCRIPTION:Come early to socialize with friends! \nZoom link will be sent out via email to members a couple of days prior to the meeting. \nAt the April meeting\, we’re pleased to welcome Lt. Col Andrew Metelko from the Air Force Safety Center here in Albuquerque. He’s an aviation physiologist and will share some of the techniques the Air Force has developed for managing risk in aviation. He’ll use the Balloon Fiesta as an example case. \nWe’re also expecting the new manager for the ABQ FSDO\, Eric Thomas\, to introduce himself. Eric will be back in May to give us his vision for the local FSDO going forward.
URL:https://www.hotairballooning.org/event/general-membership-meeting-april-2025/
LOCATION:Anderson Abruzzo Int’l Balloon Museum\, 9201 Balloon Museum Dr NE\, NM\, 87113\, United States
CATEGORIES:General Meeting
ATTACH;FMTTYPE=image/jpeg:https://www.hotairballooning.org/wp-content/uploads/2025/01/General-Meeting-IMAGE.jpg
ORGANIZER;CN="AAAA Board of Directors":MAILTO:board@hotairballooning.org
END:VEVENT
END:VCALENDAR