BEGIN:VCALENDAR
VERSION:2.0
PRODID:-//Albuquerque Aerostat Ascension Association (AAAA) - ECPv6.15.17//NONSGML v1.0//EN
CALSCALE:GREGORIAN
METHOD:PUBLISH
X-ORIGINAL-URL:https://www.hotairballooning.org
X-WR-CALDESC:Events for Albuquerque Aerostat Ascension Association (AAAA)
REFRESH-INTERVAL;VALUE=DURATION:PT1H
X-Robots-Tag:noindex
X-PUBLISHED-TTL:PT1H
BEGIN:VTIMEZONE
TZID:America/Denver
BEGIN:DAYLIGHT
TZOFFSETFROM:-0700
TZOFFSETTO:-0600
TZNAME:MDT
DTSTART:20240310T090000
END:DAYLIGHT
BEGIN:STANDARD
TZOFFSETFROM:-0600
TZOFFSETTO:-0700
TZNAME:MST
DTSTART:20241103T080000
END:STANDARD
BEGIN:DAYLIGHT
TZOFFSETFROM:-0700
TZOFFSETTO:-0600
TZNAME:MDT
DTSTART:20250309T090000
END:DAYLIGHT
BEGIN:STANDARD
TZOFFSETFROM:-0600
TZOFFSETTO:-0700
TZNAME:MST
DTSTART:20251102T080000
END:STANDARD
BEGIN:DAYLIGHT
TZOFFSETFROM:-0700
TZOFFSETTO:-0600
TZNAME:MDT
DTSTART:20260308T090000
END:DAYLIGHT
BEGIN:STANDARD
TZOFFSETFROM:-0600
TZOFFSETTO:-0700
TZNAME:MST
DTSTART:20261101T080000
END:STANDARD
END:VTIMEZONE
BEGIN:VEVENT
DTSTART;TZID=America/Denver:20250602T183000
DTEND;TZID=America/Denver:20250602T210000
DTSTAMP:20260421T190208
CREATED:20250405T222605Z
LAST-MODIFIED:20250405T230651Z
UID:25214-1748889000-1748898000@www.hotairballooning.org
SUMMARY:Balloons & Beverages! — Hot-Air Balloon PAINT NIGHT
DESCRIPTION:Join us for another great FUNdraiser for AAAA!\n \nKelly Jo Designs by Wine will donate 25% of class fees and bar sales\nto our balloon club. Bring a friend or two and have some fun!\nClick Here to Buy Tickets!
URL:https://www.hotairballooning.org/event/balloons-beverages-hot-air-balloon-paint-night/
LOCATION:Kelly Jo Designs by Wine\, 6829 4th St NW\, Los Ranchos de Albuquerque\, 87107\, United States
CATEGORIES:Fundraising Event
ATTACH;FMTTYPE=image/jpeg:https://www.hotairballooning.org/wp-content/uploads/2025/04/Balloons-Beverages-JUNE-2025.jpg
END:VEVENT
BEGIN:VEVENT
DTSTART;VALUE=DATE:20250606
DTEND;VALUE=DATE:20250609
DTSTAMP:20260421T190208
CREATED:20250516T005030Z
LAST-MODIFIED:20250603T145636Z
UID:25404-1749168000-1749427199@www.hotairballooning.org
SUMMARY:In-Person Private Pilot Ground School
DESCRIPTION:Registration for this Ground School is CLOSED.
URL:https://www.hotairballooning.org/event/in-person-private-pilot-ground-school/
LOCATION:Balloon Fiesta Main Office\, 4401 Alameda Blvd NE\, Albuque\, NM\, 87113
CATEGORIES:Education
ATTACH;FMTTYPE=image/jpeg:https://www.hotairballooning.org/wp-content/uploads/2025/01/Private-Pilot-IN-PERSON.jpg
END:VEVENT
BEGIN:VEVENT
DTSTART;TZID=America/Denver:20250609T180000
DTEND;TZID=America/Denver:20250609T190000
DTSTAMP:20260421T190208
CREATED:20250108T174742Z
LAST-MODIFIED:20250108T174742Z
UID:2625-1749492000-1749495600@www.hotairballooning.org
SUMMARY:Education Committee Meeting - June 2025
DESCRIPTION:All meetings take place via Zoom. Please contact the Education Committee Chair for a meeting link.
URL:https://www.hotairballooning.org/event/education-committee-meeting-june-2025/
LOCATION:Via Zoom Only
CATEGORIES:Education
ATTACH;FMTTYPE=image/jpeg:https://www.hotairballooning.org/wp-content/uploads/2025/01/Education-Committee.jpg
END:VEVENT
BEGIN:VEVENT
DTSTART;VALUE=DATE:20250613
DTEND;VALUE=DATE:20250616
DTSTAMP:20260421T190208
CREATED:20250430T005506Z
LAST-MODIFIED:20250430T010502Z
UID:25316-1749772800-1750031999@www.hotairballooning.org
SUMMARY:Balloons Over Angel Fire 2025
DESCRIPTION:Watch a field of hot-air balloons at sunrise as they gracefully float up into the cool morning air of the Moreno Valley. Balloons Over Angel Fire is one of the few high-mountain hot-air balloon events in the country. Learn how the balloons work\, talk to the pilots\, take lots of pictures and spend Father’s Day weekend enjoying the laid-back pace of Angel Fire\, NM.\n\nSchedule of Events\nFriday\nGates Open 6:00am\n6:30am-9:00am Mass Ascension – Angel Fire Airport\n9:00am-5:00pm Vietnam Veterans Memorial Open\n5:00pm-7:00pm Cool Summer Nights\nFree Concert at Liberty Square Park\n\nSaturday\nGates Open 6:00am\n6:30am-9:00am Mass Ascension – Angel Fire Airport\n9:00am-4:00pm Mimosas on Mainstreet\n\nSunday\nGates Open 6:00am\n6:30am-9:00am Mass Ascension – Angel Fire Airport\n10:00am-4:00pm Angel Fire Farmer’s Market – Frontier Park\n\nWhat You Should Know Before You Go\nAngel Fire Weather\nThe average temperatures in Angel Fire in June range from 60-70 degrees during the day. Nights and early mornings may get down into the 40s but make for great summer grilling and bonfire weather.\n\nHow To Dress For The Weather\nThe best way to dress in the mountains is in layers. Start with a light sweatshirt or sweater over a t-shirt or tank top. Sunglasses\, a hat and a raincoat or umbrella will have you prepared for varying weather. All events are outdoors and apparel is casual.\n\nWhat To Bring To Tailgate At The Angel Fire Airport\nThe ascension events at the Angel Fire Airport are a bring-your-own-seating and food\, type of festivity. Lawn chairs\, blankets\, strollers and wagons are all acceptable. You are encouraged to tailgate open up that cooler and get fueled up for summer mountain fun.\n\nPrices & Promotions\nBalloon sightings\, live music\, the street fair and the farmers market are all FREE to attend. There will be food and beverages available for purchase\, along with local art and produce.
URL:https://www.hotairballooning.org/event/balloons-over-angel-fire-2025/
CATEGORIES:Regional Event
ATTACH;FMTTYPE=image/jpeg:https://www.hotairballooning.org/wp-content/uploads/2025/04/489821660_1113012467523515_5599654322132286696_n.jpg
END:VEVENT
BEGIN:VEVENT
DTSTART;VALUE=DATE:20250613
DTEND;VALUE=DATE:20250616
DTSTAMP:20260421T190208
CREATED:20250502T154353Z
LAST-MODIFIED:20250502T154353Z
UID:25324-1749772800-1750031999@www.hotairballooning.org
SUMMARY:San Juan River Balloon Rally
DESCRIPTION:Mass Ascension — Friday\, Saturday\, Sunday at 6:30 am \nBalloon Glow — Saturday evening at 5:30 pm \nLots of Entertainment & Vendors! \nContact the Bloomfield Chamber of Commerce with questions. (505) 632-0880
URL:https://www.hotairballooning.org/event/san-juan-river-balloon-rally/
LOCATION:Bloomfield\, NM\, Bloomfield\, NM\, United States
CATEGORIES:Regional Event
ATTACH;FMTTYPE=image/jpeg:https://www.hotairballooning.org/wp-content/uploads/2025/05/Bloomfield-San-Juan-River-Valley.jpg
END:VEVENT
BEGIN:VEVENT
DTSTART;VALUE=DATE:20250614
DTEND;VALUE=DATE:20250615
DTSTAMP:20260421T190208
CREATED:20250105T165919Z
LAST-MODIFIED:20250603T165307Z
UID:2016-1749859200-1749945599@www.hotairballooning.org
SUMMARY:AAAA Flying Event - Rio Rancho [ CANCELLED ]
DESCRIPTION:We want to encourage pilots to support flying events around the state. Towards that end we have decided to cancel the June flying event. Please go support other organizations around NM as they host great rallies throughout June. For questions please contact president@hotairballooning.org.
URL:https://www.hotairballooning.org/event/flying-event-rio-rancho-june-2025/
LOCATION:Rio Rancho\, Rio Rancho\, NM\, United States
CATEGORIES:Monthly Flying Event
ATTACH;FMTTYPE=image/jpeg:https://www.hotairballooning.org/wp-content/uploads/2025/06/Flying-Event-RIO-RANCHO1.jpg
END:VEVENT
BEGIN:VEVENT
DTSTART;TZID=America/Denver:20250616T173000
DTEND;TZID=America/Denver:20250616T193000
DTSTAMP:20260421T190208
CREATED:20250105T162150Z
LAST-MODIFIED:20250105T180439Z
UID:1974-1750095000-1750102200@www.hotairballooning.org
SUMMARY:Board Meeting - June 2025
DESCRIPTION:
URL:https://www.hotairballooning.org/event/board-meeting-june-2025/
CATEGORIES:Board Meetings
ATTACH;FMTTYPE=image/jpeg:https://www.hotairballooning.org/wp-content/uploads/2025/01/Board-Meeting.jpg
ORGANIZER;CN="AAAA Board of Directors":MAILTO:board@hotairballooning.org
END:VEVENT
BEGIN:VEVENT
DTSTART;VALUE=DATE:20250621
DTEND;VALUE=DATE:20250622
DTSTAMP:20260421T190208
CREATED:20250129T150007Z
LAST-MODIFIED:20250606T013623Z
UID:24693-1750464000-1750550399@www.hotairballooning.org
SUMMARY:Top Gun Monthly Flying Event
DESCRIPTION:
URL:https://www.hotairballooning.org/event/top-gun-monthly-flying-event-june/
CATEGORIES:Regional Event
ATTACH;FMTTYPE=image/jpeg:https://www.hotairballooning.org/wp-content/uploads/2025/01/TOP-GUN-FLYING-EVENT.jpg
END:VEVENT
BEGIN:VEVENT
DTSTART;TZID=America/Denver:20250624T183000
DTEND;TZID=America/Denver:20250624T193000
DTSTAMP:20260421T190208
CREATED:20250105T181702Z
LAST-MODIFIED:20250623T204458Z
UID:2036-1750789800-1750793400@www.hotairballooning.org
SUMMARY:General Membership Meeting - June 2025
DESCRIPTION:Come early to socialize with friends! \n** Meeting will be on the 1ST FLOOR this month. ** \nThis month’s topic — our own Cynthia Lay will give us an overview of current ballooning-related tech\, apps\, and resource websites for pilots and crew. Come with your own suggestions to share! \nZoom link will be sent out via email to members prior to the meeting.
URL:https://www.hotairballooning.org/event/general-membership-meeting-june-2025/
LOCATION:Anderson Abruzzo Int’l Balloon Museum\, 9201 Balloon Museum Dr NE\, NM\, 87113\, United States
CATEGORIES:General Meeting
ATTACH;FMTTYPE=image/jpeg:https://www.hotairballooning.org/wp-content/uploads/2025/01/General-Meeting-IMAGE.jpg
ORGANIZER;CN="AAAA Board of Directors":MAILTO:board@hotairballooning.org
END:VEVENT
END:VCALENDAR