BEGIN:VCALENDAR
VERSION:2.0
PRODID:-//Albuquerque Aerostat Ascension Association (AAAA) - ECPv6.15.17//NONSGML v1.0//EN
CALSCALE:GREGORIAN
METHOD:PUBLISH
X-ORIGINAL-URL:https://www.hotairballooning.org
X-WR-CALDESC:Events for Albuquerque Aerostat Ascension Association (AAAA)
REFRESH-INTERVAL;VALUE=DURATION:PT1H
X-Robots-Tag:noindex
X-PUBLISHED-TTL:PT1H
BEGIN:VTIMEZONE
TZID:America/Denver
BEGIN:DAYLIGHT
TZOFFSETFROM:-0700
TZOFFSETTO:-0600
TZNAME:MDT
DTSTART:20240310T090000
END:DAYLIGHT
BEGIN:STANDARD
TZOFFSETFROM:-0600
TZOFFSETTO:-0700
TZNAME:MST
DTSTART:20241103T080000
END:STANDARD
BEGIN:DAYLIGHT
TZOFFSETFROM:-0700
TZOFFSETTO:-0600
TZNAME:MDT
DTSTART:20250309T090000
END:DAYLIGHT
BEGIN:STANDARD
TZOFFSETFROM:-0600
TZOFFSETTO:-0700
TZNAME:MST
DTSTART:20251102T080000
END:STANDARD
BEGIN:DAYLIGHT
TZOFFSETFROM:-0700
TZOFFSETTO:-0600
TZNAME:MDT
DTSTART:20260308T090000
END:DAYLIGHT
BEGIN:STANDARD
TZOFFSETFROM:-0600
TZOFFSETTO:-0700
TZNAME:MST
DTSTART:20261101T080000
END:STANDARD
END:VTIMEZONE
BEGIN:VEVENT
DTSTART;VALUE=DATE:20250904
DTEND;VALUE=DATE:20250905
DTSTAMP:20260421T142311
CREATED:20250621T023704Z
LAST-MODIFIED:20250623T203830Z
UID:25495-1756944000-1757030399@www.hotairballooning.org
SUMMARY:Birdies & Balloons Golf Tournament
DESCRIPTION:We’re thrilled to invite you to our first-ever Birdies & Balloons Golf Tournament\, happening Thursday\, September 4\, 2025\, at Arroyo Del Oso Golf Course! \nThis fun-filled event will bring our community together on the green to raise funds for the education\, safety\, and social programs that keep AAAA flying high all year long. \n⛳ Event Details\n📍 Where: Arroyo Del Oso Golf Course\n📅 When: Thursday\, September 4\, 2025\n🕖 7:00 AM Check-In | 🏁 8:00 AM Shotgun Start\n💵 Entry Fee: $150 per golfer | $600 per foursome\n🍽 Includes green fee\, cart\, range balls\, food & drinks \n🎟️ Register your team today:\n👉 https://app.eventcaddy.com/events/2025-birdies-and-balloons \n🎉 Extras\n\n50/50 Raffle\nMulligans for purchase\nBallooning-themed fun and contests\nPrizes\, pilot crew foursomes\, and more!\n\n🙌 Sponsor the Event\nWe’re actively seeking sponsors to help make this event a success and show their support for AAAA. Sponsorships include great visibility and perks throughout the tournament.\n👉 Become a sponsor here \nYour participation—whether as a player\, sponsor\, or supporter—makes a difference. Let’s swing into action and make this a day to remember. \nThank you for helping us keep the spirit of ballooning rising high!
URL:https://www.hotairballooning.org/event/birdies-balloons-golf-tournament/
CATEGORIES:Fundraising Event,Special Event
ATTACH;FMTTYPE=image/jpeg:https://www.hotairballooning.org/wp-content/uploads/2025/06/Birdies-Balloons-1.jpg
END:VEVENT
BEGIN:VEVENT
DTSTART;TZID=America/Denver:20250908T180000
DTEND;TZID=America/Denver:20250908T190000
DTSTAMP:20260421T142311
CREATED:20250108T174939Z
LAST-MODIFIED:20250108T174939Z
UID:2622-1757354400-1757358000@www.hotairballooning.org
SUMMARY:Education Committee Meeting - September 2025
DESCRIPTION:All meetings take place via Zoom. Please contact the Education Committee Chair for a meeting link.
URL:https://www.hotairballooning.org/event/education-committee-meeting-september-2025/
LOCATION:Via Zoom Only
CATEGORIES:Education
ATTACH;FMTTYPE=image/jpeg:https://www.hotairballooning.org/wp-content/uploads/2025/01/Education-Committee.jpg
END:VEVENT
BEGIN:VEVENT
DTSTART;TZID=America/Denver:20250914T060000
DTEND;TZID=America/Denver:20250914T100000
DTSTAMP:20260421T142311
CREATED:20250105T165042Z
LAST-MODIFIED:20250912T031900Z
UID:2007-1757829600-1757844000@www.hotairballooning.org
SUMMARY:AAAA Flying Event - Balloon Fiesta Park
DESCRIPTION:PRE-REGISTRATION CLOSES at 5pm FRIDAY! \nLooking forward to seeing @everyone at our September 14th “Pre-Fiesta” Flying Event at Balloon Fiesta Park! PRE-REGISTER (not required) at: https://www.cognitoforms.com/AAAA23/AAAA2025PilotCheckIn \n*** IMPORTANT NOTE *** \nPer our announcement at the last membership meeting\, in order to meet the new FAA waiver requirements\, AAAA is required to keep record of the following documents for balloons participating in our flying events: \n– airworthiness certificate \n– balloon registration \n– proof of insurance \n– pilot certificate (both sides) \nYou will be asked to upload these docs just ONCE per year (or if an update is needed)\, beginning with this month’s flying event. The items can be uploaded during the pre-registration process via the online form. \nON-SITE REGISTRATION / CHECK-IN BEGINS: 0600 / PILOT BRIEFING: 0630 \nWe’ll be at the NE corner of the field\, off Balloon Fiesta Parkway (in Albuquerque) *** Crew Games to take place afterwards at Fiesta Park! ***
URL:https://www.hotairballooning.org/event/flying-event-balloon-fiesta-park-september-2025/
CATEGORIES:Monthly Flying Event
ATTACH;FMTTYPE=image/jpeg:https://www.hotairballooning.org/wp-content/uploads/2025/01/Flying-Event-ALBUQUERQUE.jpg
END:VEVENT
BEGIN:VEVENT
DTSTART;TZID=America/Denver:20250915T173000
DTEND;TZID=America/Denver:20250915T193000
DTSTAMP:20260421T142311
CREATED:20250105T162533Z
LAST-MODIFIED:20250105T180337Z
UID:1987-1757957400-1757964600@www.hotairballooning.org
SUMMARY:Board Meeting - September 2025
DESCRIPTION:
URL:https://www.hotairballooning.org/event/board-meeting-september-2025/
CATEGORIES:Board Meetings
ATTACH;FMTTYPE=image/jpeg:https://www.hotairballooning.org/wp-content/uploads/2025/01/Board-Meeting.jpg
ORGANIZER;CN="AAAA Board of Directors":MAILTO:board@hotairballooning.org
END:VEVENT
BEGIN:VEVENT
DTSTART;VALUE=DATE:20250920
DTEND;VALUE=DATE:20250922
DTSTAMP:20260421T142311
CREATED:20250129T151419Z
LAST-MODIFIED:20250830T161323Z
UID:24712-1758326400-1758499199@www.hotairballooning.org
SUMMARY:Top Gun Monthly Flying Event
DESCRIPTION:
URL:https://www.hotairballooning.org/event/top-gun-monthly-flying-event-september/
CATEGORIES:Regional Event
ATTACH;FMTTYPE=image/jpeg:https://www.hotairballooning.org/wp-content/uploads/2025/01/TOP-GUN-FLYING-EVENT.jpg
END:VEVENT
BEGIN:VEVENT
DTSTART;VALUE=DATE:20250920
DTEND;VALUE=DATE:20250922
DTSTAMP:20260421T142311
CREATED:20250621T152815Z
LAST-MODIFIED:20250621T153114Z
UID:25502-1758326400-1758499199@www.hotairballooning.org
SUMMARY:White Sands Balloon Invitational
DESCRIPTION:For Additional Information\, Click Here to Visit Website. \nFor over 30 years\, the annual White Sands Balloon Invitational makes for an unforgettable weekend of ballooning magic and festivities. The Balloon Invitational will take place at White Sands National Park and the Ed Brabson Balloon Park in Alamogordo\, New Mexico\, weather permitting\, on the weekend of Saturday\, September 20\, 2025 and Sunday\, September 21\, 2025. \nOn Saturday\, September 20\, 2025\, the balloons will lift off at White Sands National Park at approximately 7 am. Park fees will apply. The gates will open at 6 am. \nOn Sunday\, September 21\, 2025\, the balloons will lift off at Ed Brabson Balloon Park (700 Lavelle Road) at 7 am. Entry is free! \nThe Ed Brabson Balloon Park is 24 acres of flat green grass\, some of the greenest you will find in Alamogordo. The park is located at 700 Lavelle Road near Alamogordo Drive just west of the Charlie Lee Memorial Relief Route. \nPlease note that parking is not permitted at the Brackish Groundwater National Desalination Research Facility parking lot or its adjacent ditches and property.
URL:https://www.hotairballooning.org/event/white-sands-balloon-invitational/
ATTACH;FMTTYPE=image/jpeg:https://www.hotairballooning.org/wp-content/uploads/2025/06/White-Sands.jpg
END:VEVENT
BEGIN:VEVENT
DTSTART;TZID=America/Denver:20250923T183000
DTEND;TZID=America/Denver:20250923T193000
DTSTAMP:20260421T142311
CREATED:20250105T182054Z
LAST-MODIFIED:20250105T182054Z
UID:2043-1758652200-1758655800@www.hotairballooning.org
SUMMARY:General Membership Meeting - September 2025
DESCRIPTION:Come early to socialize with friends! \nZoom link will be sent out via email to members a couple of days prior to the meeting.
URL:https://www.hotairballooning.org/event/general-membership-meeting-september-2025/
LOCATION:Anderson Abruzzo Int’l Balloon Museum\, 9201 Balloon Museum Dr NE\, NM\, 87113\, United States
CATEGORIES:General Meeting
ATTACH;FMTTYPE=image/jpeg:https://www.hotairballooning.org/wp-content/uploads/2025/01/General-Meeting-IMAGE.jpg
ORGANIZER;CN="AAAA Board of Directors":MAILTO:board@hotairballooning.org
END:VEVENT
END:VCALENDAR