BEGIN:VCALENDAR
VERSION:2.0
PRODID:-//Albuquerque Aerostat Ascension Association (AAAA) - ECPv6.15.17//NONSGML v1.0//EN
CALSCALE:GREGORIAN
METHOD:PUBLISH
X-ORIGINAL-URL:https://www.hotairballooning.org
X-WR-CALDESC:Events for Albuquerque Aerostat Ascension Association (AAAA)
REFRESH-INTERVAL;VALUE=DURATION:PT1H
X-Robots-Tag:noindex
X-PUBLISHED-TTL:PT1H
BEGIN:VTIMEZONE
TZID:America/Denver
BEGIN:DAYLIGHT
TZOFFSETFROM:-0700
TZOFFSETTO:-0600
TZNAME:MDT
DTSTART:20240310T090000
END:DAYLIGHT
BEGIN:STANDARD
TZOFFSETFROM:-0600
TZOFFSETTO:-0700
TZNAME:MST
DTSTART:20241103T080000
END:STANDARD
BEGIN:DAYLIGHT
TZOFFSETFROM:-0700
TZOFFSETTO:-0600
TZNAME:MDT
DTSTART:20250309T090000
END:DAYLIGHT
BEGIN:STANDARD
TZOFFSETFROM:-0600
TZOFFSETTO:-0700
TZNAME:MST
DTSTART:20251102T080000
END:STANDARD
BEGIN:DAYLIGHT
TZOFFSETFROM:-0700
TZOFFSETTO:-0600
TZNAME:MDT
DTSTART:20260308T090000
END:DAYLIGHT
BEGIN:STANDARD
TZOFFSETFROM:-0600
TZOFFSETTO:-0700
TZNAME:MST
DTSTART:20261101T080000
END:STANDARD
END:VTIMEZONE
BEGIN:VEVENT
DTSTART;VALUE=DATE:20251205
DTEND;VALUE=DATE:20251208
DTSTAMP:20260421T093609
CREATED:20250130T142110Z
LAST-MODIFIED:20250130T152637Z
UID:24733-1764892800-1765151999@www.hotairballooning.org
SUMMARY:Red Rock Balloon Rally — Gallup
DESCRIPTION:Friday\, December 5\, 2025 \n\nMass Ascension from Fox Run Golf Course in Gallup & from Red Rock Park 7:30 am\nGlow in The Rocks and Indian Dances at Red Rock Park 6:30 pm\n\nSaturday\, December 6\, 2025 \n\nDawn Patrol 6:30 am\nMass Ascension at Red Rock Park 7:30 am\nPyramid Rock Run Registration at Red Rock Park 8:00 am\nPyramid Rock Run at Red Rock Park 8:30 am\nGallup Downtown Christmas Parade 1:00pm\nBalloominaria at Rio West Mall 6:30 pm\n\nSunday\, December 7\, 2025 \n\nDawn Patrol 6:30am\nMass Ascension at Red Rock Park 7:30am\nAwards Brunch and Auction at Red Rock Park 10:00am
URL:https://www.hotairballooning.org/event/red-rock-balloon-rally-gallup/
CATEGORIES:Regional Event
ATTACH;FMTTYPE=image/jpeg:https://www.hotairballooning.org/wp-content/uploads/2025/01/GALLUP-RALLY.jpg
END:VEVENT
BEGIN:VEVENT
DTSTART;TZID=America/Denver:20251208T180000
DTEND;TZID=America/Denver:20251208T190000
DTSTAMP:20260421T093609
CREATED:20250108T175103Z
LAST-MODIFIED:20250108T175103Z
UID:2620-1765216800-1765220400@www.hotairballooning.org
SUMMARY:Education Committee Meeting - December 2025
DESCRIPTION:All meetings take place via Zoom. Please contact the Education Committee Chair for a meeting link.
URL:https://www.hotairballooning.org/event/education-committee-meeting-december-2025/
LOCATION:Via Zoom Only
CATEGORIES:Education
ATTACH;FMTTYPE=image/jpeg:https://www.hotairballooning.org/wp-content/uploads/2025/01/Education-Committee.jpg
END:VEVENT
BEGIN:VEVENT
DTSTART;VALUE=DATE:20251213
DTEND;VALUE=DATE:20251215
DTSTAMP:20260421T093609
CREATED:20250105T165232Z
LAST-MODIFIED:20251210T180600Z
UID:2009-1765584000-1765756799@www.hotairballooning.org
SUMMARY:Jingle Bell NON-Rally - Balloon Fiesta Park
DESCRIPTION:December 13 & 14\, 2025\n Sid Cutter Pilot Pavilion\, Balloon Fiesta Park \n\n Benefiting\nCity of Albuquerque Animal Welfare Department\nBring dog food\, cat food\, toys\, or blankets to donate!\n Cash donations welcome — we’ll buy food with your gift! \n\n Schedule\n\nSid Cutter Pavilion opens: 6:00 AM\nPilot Check-In (scanning): 6:15 AM\nPilot Briefing: 6:45 AM (inside the SID)\nSunrise: 7:02 / 7:03 AM\n\n\n Registration\nPRE-REGISTRATION is PREFERRED (not required) for planning purposes. Click here to pre-register.\n flying-events@hotairballooning.org for any questions. \n\n Fees\nNo registration fee — this is a regular flying event\, just with a little holiday cheer! (Please do consider bringing a donation for the City of Albuquerque Animal Welfare Department.) \n\n Entry & Parking\n\nEnter through Gate 19 (Alameda & Balloon Museum Drive).\nCrew parking: on the pavement near the SID.\nBalloon trucks: on the grass only for setup and launch.\nPlease avoid grassy construction zones and stay off the grass when not launching.\n\n\n Tailgating\nYes\, tailgating is encouraged! Just remember: no alcohol is allowed in the SID — so bring your best red Solo cups! \n\n Activities & Merchandise\nExpect lots of holiday fun during tailgating! \n Jingle Bell T-Shirts — $27\n Jingle Bell Pins — $8 \n\n Spread the Cheer!\nLet’s fly\, celebrate\, and support our furry friends this holiday season!\nVisit hotairballooning.org for updates and event details.
URL:https://www.hotairballooning.org/event/jingle-bell-non-rally-2025/
CATEGORIES:Monthly Flying Event,Special Event
ATTACH;FMTTYPE=image/jpeg:https://www.hotairballooning.org/wp-content/uploads/2025/01/Jingle-Bell-Non-Rally-2025.jpg
END:VEVENT
BEGIN:VEVENT
DTSTART;TZID=America/Denver:20251215T173000
DTEND;TZID=America/Denver:20251215T193000
DTSTAMP:20260421T093609
CREATED:20250105T162742Z
LAST-MODIFIED:20250105T180220Z
UID:1990-1765819800-1765827000@www.hotairballooning.org
SUMMARY:Board Meeting - December 2025
DESCRIPTION:
URL:https://www.hotairballooning.org/event/board-meeting-december-2025/
CATEGORIES:Board Meetings
ATTACH;FMTTYPE=image/jpeg:https://www.hotairballooning.org/wp-content/uploads/2025/01/Board-Meeting.jpg
ORGANIZER;CN="AAAA Board of Directors":MAILTO:board@hotairballooning.org
END:VEVENT
BEGIN:VEVENT
DTSTART;VALUE=DATE:20251220
DTEND;VALUE=DATE:20251221
DTSTAMP:20260421T093609
CREATED:20250129T153246Z
LAST-MODIFIED:20250606T013156Z
UID:24722-1766188800-1766275199@www.hotairballooning.org
SUMMARY:Top Gun Monthly Flying Event
DESCRIPTION:
URL:https://www.hotairballooning.org/event/top-gun-monthly-flying-event-december/
CATEGORIES:Regional Event
ATTACH;FMTTYPE=image/jpeg:https://www.hotairballooning.org/wp-content/uploads/2025/01/TOP-GUN-FLYING-EVENT.jpg
END:VEVENT
END:VCALENDAR