BEGIN:VCALENDAR
VERSION:2.0
PRODID:-//Albuquerque Aerostat Ascension Association (AAAA) - ECPv6.15.17//NONSGML v1.0//EN
CALSCALE:GREGORIAN
METHOD:PUBLISH
X-WR-CALNAME:Albuquerque Aerostat Ascension Association (AAAA)
X-ORIGINAL-URL:https://www.hotairballooning.org
X-WR-CALDESC:Events for Albuquerque Aerostat Ascension Association (AAAA)
REFRESH-INTERVAL;VALUE=DURATION:PT1H
X-Robots-Tag:noindex
X-PUBLISHED-TTL:PT1H
BEGIN:VTIMEZONE
TZID:America/Denver
BEGIN:DAYLIGHT
TZOFFSETFROM:-0700
TZOFFSETTO:-0600
TZNAME:MDT
DTSTART:20250309T090000
END:DAYLIGHT
BEGIN:STANDARD
TZOFFSETFROM:-0600
TZOFFSETTO:-0700
TZNAME:MST
DTSTART:20251102T080000
END:STANDARD
BEGIN:DAYLIGHT
TZOFFSETFROM:-0700
TZOFFSETTO:-0600
TZNAME:MDT
DTSTART:20260308T090000
END:DAYLIGHT
BEGIN:STANDARD
TZOFFSETFROM:-0600
TZOFFSETTO:-0700
TZNAME:MST
DTSTART:20261101T080000
END:STANDARD
BEGIN:DAYLIGHT
TZOFFSETFROM:-0700
TZOFFSETTO:-0600
TZNAME:MDT
DTSTART:20270314T090000
END:DAYLIGHT
BEGIN:STANDARD
TZOFFSETFROM:-0600
TZOFFSETTO:-0700
TZNAME:MST
DTSTART:20271107T080000
END:STANDARD
END:VTIMEZONE
BEGIN:VEVENT
DTSTART;TZID=America/Denver:20260110T061500
DTEND;TZID=America/Denver:20260110T100000
DTSTAMP:20260421T080458
CREATED:20260106T032908Z
LAST-MODIFIED:20260106T033012Z
UID:26355-1768025700-1768039200@www.hotairballooning.org
SUMMARY:AAAA Flying Event - Rio Rancho
DESCRIPTION:LOCATION: Rio Rancho – Westside & 10th Street\, across from Joe Harris Elementary School \n\n\nREGISTRATION: 6:15 am \nBRIEFING: 6:45 am \nPRE-REGISTER by Friday at 5pm: https://www.cognitoforms.com/AAAA23/AAAA2026PilotCheckIn \nPre-registration is NOT required\, but it is preferred. You can also register on-site at the flying event itself.
URL:https://www.hotairballooning.org/event/january-2026-flying-event-rio-rancho/
CATEGORIES:Monthly Flying Event
ATTACH;FMTTYPE=image/jpeg:https://www.hotairballooning.org/wp-content/uploads/2025/01/Flying-Event-RIO-RANCHO.jpg
END:VEVENT
BEGIN:VEVENT
DTSTART;TZID=America/Denver:20260127T170000
DTEND;TZID=America/Denver:20260127T203000
DTSTAMP:20260421T080458
CREATED:20251229T013758Z
LAST-MODIFIED:20260112T155522Z
UID:26318-1769533200-1769545800@www.hotairballooning.org
SUMMARY:2026 Awards & Recognitions Banquet
DESCRIPTION:Click Here to Reserve Your Ticket(s)\nJoin us for an elegant evening celebrating the people and service that make the Albuquerque Aerostat Ascension Association community exceptional. The AAAA Awards Banquet brings members together for a night of recognition\, connection\, and gratitude\, while awarding our pilots and crew! \n\n\n\n\n\nWHEN: Tuesday\, January 27\, 2026 5 pm – 8:30 pm \n\n\n\nWHERE: Fogo de Chao / Coronado Center 6600 Menaul Blvd. NE\, Space M006\, Albuquerque\, NM 87110 \n\n\n\nGuests will enjoy a relaxed cocktail hour\, a beautifully curated dinner experience\, and a formal awards ceremony\, all designed to honor the dedication\, leadership\, and passion that sustain our ballooning community. This special evening serves as both a celebration of achievement and a moment to reflect on the year behind us and the season ahead! \nBalloon Prom — It’s prom night… balloon-style. Break out your best cocktail attire and have a little fun with it. Think classic prom vibes\, a touch of sparkle\, vintage flair\, or a subtle nod to ballooning or aviation. Suits\, dresses\, bow ties\, bold colors\, and statement accessories are all welcome. \nEvening Timeline\n\n5:00 PM — Guest ArrivalGuests are invited to order drinks at the bar and mingle.\n5:45 PM — Guests Invited to the Market Table\n7:00 PM — Awards Ceremony Begins\n7:15–7:30 PM — Desserts Passed\n8:15 PM — Event Conclusion / Guest Departure\n\nClick Here to Reserve Your Ticket(s)
URL:https://www.hotairballooning.org/event/2026-awards-recognitions-banquet/
CATEGORIES:General Meeting
ATTACH;FMTTYPE=image/jpeg:https://www.hotairballooning.org/wp-content/uploads/2026/01/Awards-Banquet-2026.jpg
END:VEVENT
END:VCALENDAR