BEGIN:VCALENDAR
VERSION:2.0
PRODID:-//Albuquerque Aerostat Ascension Association (AAAA) - ECPv6.15.17//NONSGML v1.0//EN
CALSCALE:GREGORIAN
METHOD:PUBLISH
X-ORIGINAL-URL:https://www.hotairballooning.org
X-WR-CALDESC:Events for Albuquerque Aerostat Ascension Association (AAAA)
REFRESH-INTERVAL;VALUE=DURATION:PT1H
X-Robots-Tag:noindex
X-PUBLISHED-TTL:PT1H
BEGIN:VTIMEZONE
TZID:America/Denver
BEGIN:DAYLIGHT
TZOFFSETFROM:-0700
TZOFFSETTO:-0600
TZNAME:MDT
DTSTART:20250309T090000
END:DAYLIGHT
BEGIN:STANDARD
TZOFFSETFROM:-0600
TZOFFSETTO:-0700
TZNAME:MST
DTSTART:20251102T080000
END:STANDARD
BEGIN:DAYLIGHT
TZOFFSETFROM:-0700
TZOFFSETTO:-0600
TZNAME:MDT
DTSTART:20260308T090000
END:DAYLIGHT
BEGIN:STANDARD
TZOFFSETFROM:-0600
TZOFFSETTO:-0700
TZNAME:MST
DTSTART:20261101T080000
END:STANDARD
BEGIN:DAYLIGHT
TZOFFSETFROM:-0700
TZOFFSETTO:-0600
TZNAME:MDT
DTSTART:20270314T090000
END:DAYLIGHT
BEGIN:STANDARD
TZOFFSETFROM:-0600
TZOFFSETTO:-0700
TZNAME:MST
DTSTART:20271107T080000
END:STANDARD
END:VTIMEZONE
BEGIN:VEVENT
DTSTART;VALUE=DATE:20260614
DTEND;VALUE=DATE:20260615
DTSTAMP:20260421T063655
CREATED:20260308T023353Z
LAST-MODIFIED:20260308T023353Z
UID:26543-1781395200-1781481599@www.hotairballooning.org
SUMMARY:AAAA Flying Event - Rio Rancho - June 2026
DESCRIPTION:LOCATION: Rio Rancho – Westside & 10th Street\, across from Joe Harris Elementary School \nREGISTRATION: 5:00 am \nBRIEFING: 5:25 am \nPlease click on this link to PRE-REGISTER no later than 5 pm on June 13th. \nClick here for the Crew Certificate of Understanding (COU).
URL:https://www.hotairballooning.org/event/aaaa-flying-event-rio-rancho-june-2026/
CATEGORIES:Monthly Flying Event
ATTACH;FMTTYPE=image/jpeg:https://www.hotairballooning.org/wp-content/uploads/2025/01/Flying-Event-RIO-RANCHO.jpg
END:VEVENT
BEGIN:VEVENT
DTSTART;TZID=America/Denver:20260623T183000
DTEND;TZID=America/Denver:20260623T193000
DTSTAMP:20260421T063655
CREATED:20260308T020952Z
LAST-MODIFIED:20260308T020952Z
UID:26502-1782239400-1782243000@www.hotairballooning.org
SUMMARY:General Membership Meeting - June 2026
DESCRIPTION:Come early to socialize with friends! \nVideo link will be sent out via email to members a couple of days prior to the meeting.
URL:https://www.hotairballooning.org/event/general-membership-meeting-june-2026/
LOCATION:Anderson Abruzzo Int’l Balloon Museum\, 9201 Balloon Museum Dr NE\, NM\, 87113\, United States
CATEGORIES:General Meeting
ATTACH;FMTTYPE=image/jpeg:https://www.hotairballooning.org/wp-content/uploads/2025/01/General-Meeting-IMAGE.jpg
ORGANIZER;CN="AAAA Board of Directors":MAILTO:board@hotairballooning.org
END:VEVENT
END:VCALENDAR